BEGIN:VCALENDAR
VERSION:2.0
PRODID:-//City Of Kaukauna - ECPv6.15.20//NONSGML v1.0//EN
CALSCALE:GREGORIAN
METHOD:PUBLISH
X-WR-CALNAME:City Of Kaukauna
X-ORIGINAL-URL:https://kaukauna.gov
X-WR-CALDESC:Events for City Of Kaukauna
REFRESH-INTERVAL;VALUE=DURATION:PT1H
X-Robots-Tag:noindex
X-PUBLISHED-TTL:PT1H
BEGIN:VTIMEZONE
TZID:America/Chicago
BEGIN:DAYLIGHT
TZOFFSETFROM:-0600
TZOFFSETTO:-0500
TZNAME:CDT
DTSTART:20290311T080000
END:DAYLIGHT
BEGIN:STANDARD
TZOFFSETFROM:-0500
TZOFFSETTO:-0600
TZNAME:CST
DTSTART:20291104T070000
END:STANDARD
BEGIN:DAYLIGHT
TZOFFSETFROM:-0600
TZOFFSETTO:-0500
TZNAME:CDT
DTSTART:20300310T080000
END:DAYLIGHT
BEGIN:STANDARD
TZOFFSETFROM:-0500
TZOFFSETTO:-0600
TZNAME:CST
DTSTART:20301103T070000
END:STANDARD
BEGIN:DAYLIGHT
TZOFFSETFROM:-0600
TZOFFSETTO:-0500
TZNAME:CDT
DTSTART:20310309T080000
END:DAYLIGHT
BEGIN:STANDARD
TZOFFSETFROM:-0500
TZOFFSETTO:-0600
TZNAME:CST
DTSTART:20311102T070000
END:STANDARD
END:VTIMEZONE
BEGIN:VEVENT
DTSTART;VALUE=DATE:20300805
DTEND;VALUE=DATE:20300806
DTSTAMP:20260422T193001
CREATED:20241127T143134Z
LAST-MODIFIED:20251110T210954Z
UID:10002301-1912118400-1912204799@kaukauna.gov
SUMMARY:Recycle Pick-Up
DESCRIPTION:
URL:https://kaukauna.gov/event/recycle-pick-up/2030-08-05/
CATEGORIES:For Residents
ATTACH;FMTTYPE=image/png:https://kaukauna.gov/wp-content/uploads/2024/11/Recycle-photo-for-website.png
END:VEVENT
BEGIN:VEVENT
DTSTART;VALUE=DATE:20300806
DTEND;VALUE=DATE:20300807
DTSTAMP:20260422T193001
CREATED:20241127T143134Z
LAST-MODIFIED:20251110T210954Z
UID:10002302-1912204800-1912291199@kaukauna.gov
SUMMARY:Recycle Pick-Up
DESCRIPTION:
URL:https://kaukauna.gov/event/recycle-pick-up/2030-08-06/
CATEGORIES:For Residents
ATTACH;FMTTYPE=image/png:https://kaukauna.gov/wp-content/uploads/2024/11/Recycle-photo-for-website.png
END:VEVENT
BEGIN:VEVENT
DTSTART;VALUE=DATE:20300807
DTEND;VALUE=DATE:20300808
DTSTAMP:20260422T193001
CREATED:20241127T143134Z
LAST-MODIFIED:20251110T210954Z
UID:10002303-1912291200-1912377599@kaukauna.gov
SUMMARY:Recycle Pick-Up
DESCRIPTION:
URL:https://kaukauna.gov/event/recycle-pick-up/2030-08-07/
CATEGORIES:For Residents
ATTACH;FMTTYPE=image/png:https://kaukauna.gov/wp-content/uploads/2024/11/Recycle-photo-for-website.png
END:VEVENT
BEGIN:VEVENT
DTSTART;VALUE=DATE:20300808
DTEND;VALUE=DATE:20300809
DTSTAMP:20260422T193001
CREATED:20241127T143134Z
LAST-MODIFIED:20251110T210954Z
UID:10002304-1912377600-1912463999@kaukauna.gov
SUMMARY:Recycle Pick-Up
DESCRIPTION:
URL:https://kaukauna.gov/event/recycle-pick-up/2030-08-08/
CATEGORIES:For Residents
ATTACH;FMTTYPE=image/png:https://kaukauna.gov/wp-content/uploads/2024/11/Recycle-photo-for-website.png
END:VEVENT
BEGIN:VEVENT
DTSTART;VALUE=DATE:20300819
DTEND;VALUE=DATE:20300820
DTSTAMP:20260422T193001
CREATED:20241127T143134Z
LAST-MODIFIED:20251110T210954Z
UID:10002305-1913328000-1913414399@kaukauna.gov
SUMMARY:Recycle Pick-Up
DESCRIPTION:
URL:https://kaukauna.gov/event/recycle-pick-up/2030-08-19/
CATEGORIES:For Residents
ATTACH;FMTTYPE=image/png:https://kaukauna.gov/wp-content/uploads/2024/11/Recycle-photo-for-website.png
END:VEVENT
BEGIN:VEVENT
DTSTART;VALUE=DATE:20300820
DTEND;VALUE=DATE:20300821
DTSTAMP:20260422T193001
CREATED:20241127T143134Z
LAST-MODIFIED:20251110T210954Z
UID:10002306-1913414400-1913500799@kaukauna.gov
SUMMARY:Recycle Pick-Up
DESCRIPTION:
URL:https://kaukauna.gov/event/recycle-pick-up/2030-08-20/
CATEGORIES:For Residents
ATTACH;FMTTYPE=image/png:https://kaukauna.gov/wp-content/uploads/2024/11/Recycle-photo-for-website.png
END:VEVENT
BEGIN:VEVENT
DTSTART;VALUE=DATE:20300821
DTEND;VALUE=DATE:20300822
DTSTAMP:20260422T193001
CREATED:20241127T143134Z
LAST-MODIFIED:20251110T210954Z
UID:10002307-1913500800-1913587199@kaukauna.gov
SUMMARY:Recycle Pick-Up
DESCRIPTION:
URL:https://kaukauna.gov/event/recycle-pick-up/2030-08-21/
CATEGORIES:For Residents
ATTACH;FMTTYPE=image/png:https://kaukauna.gov/wp-content/uploads/2024/11/Recycle-photo-for-website.png
END:VEVENT
BEGIN:VEVENT
DTSTART;VALUE=DATE:20300822
DTEND;VALUE=DATE:20300823
DTSTAMP:20260422T193001
CREATED:20241127T143134Z
LAST-MODIFIED:20251110T210954Z
UID:10002308-1913587200-1913673599@kaukauna.gov
SUMMARY:Recycle Pick-Up
DESCRIPTION:
URL:https://kaukauna.gov/event/recycle-pick-up/2030-08-22/
CATEGORIES:For Residents
ATTACH;FMTTYPE=image/png:https://kaukauna.gov/wp-content/uploads/2024/11/Recycle-photo-for-website.png
END:VEVENT
END:VCALENDAR