BEGIN:VCALENDAR
VERSION:2.0
PRODID:-//City Of Kaukauna - ECPv6.15.20//NONSGML v1.0//EN
CALSCALE:GREGORIAN
METHOD:PUBLISH
X-ORIGINAL-URL:https://kaukauna.gov
X-WR-CALDESC:Events for City Of Kaukauna
REFRESH-INTERVAL;VALUE=DURATION:PT1H
X-Robots-Tag:noindex
X-PUBLISHED-TTL:PT1H
BEGIN:VTIMEZONE
TZID:America/Chicago
BEGIN:DAYLIGHT
TZOFFSETFROM:-0600
TZOFFSETTO:-0500
TZNAME:CDT
DTSTART:20290311T080000
END:DAYLIGHT
BEGIN:STANDARD
TZOFFSETFROM:-0500
TZOFFSETTO:-0600
TZNAME:CST
DTSTART:20291104T070000
END:STANDARD
BEGIN:DAYLIGHT
TZOFFSETFROM:-0600
TZOFFSETTO:-0500
TZNAME:CDT
DTSTART:20300310T080000
END:DAYLIGHT
BEGIN:STANDARD
TZOFFSETFROM:-0500
TZOFFSETTO:-0600
TZNAME:CST
DTSTART:20301103T070000
END:STANDARD
BEGIN:DAYLIGHT
TZOFFSETFROM:-0600
TZOFFSETTO:-0500
TZNAME:CDT
DTSTART:20310309T080000
END:DAYLIGHT
BEGIN:STANDARD
TZOFFSETFROM:-0500
TZOFFSETTO:-0600
TZNAME:CST
DTSTART:20311102T070000
END:STANDARD
END:VTIMEZONE
BEGIN:VEVENT
DTSTART;VALUE=DATE:20300610
DTEND;VALUE=DATE:20300611
DTSTAMP:20260422T161537
CREATED:20241127T143134Z
LAST-MODIFIED:20251110T210954Z
UID:10002285-1907280000-1907366399@kaukauna.gov
SUMMARY:Recycle Pick-Up
DESCRIPTION:
URL:https://kaukauna.gov/event/recycle-pick-up/2030-06-10/
CATEGORIES:For Residents
ATTACH;FMTTYPE=image/png:https://kaukauna.gov/wp-content/uploads/2024/11/Recycle-photo-for-website.png
END:VEVENT
BEGIN:VEVENT
DTSTART;VALUE=DATE:20300611
DTEND;VALUE=DATE:20300612
DTSTAMP:20260422T161537
CREATED:20241127T143134Z
LAST-MODIFIED:20251110T210954Z
UID:10002286-1907366400-1907452799@kaukauna.gov
SUMMARY:Recycle Pick-Up
DESCRIPTION:
URL:https://kaukauna.gov/event/recycle-pick-up/2030-06-11/
CATEGORIES:For Residents
ATTACH;FMTTYPE=image/png:https://kaukauna.gov/wp-content/uploads/2024/11/Recycle-photo-for-website.png
END:VEVENT
BEGIN:VEVENT
DTSTART;VALUE=DATE:20300612
DTEND;VALUE=DATE:20300613
DTSTAMP:20260422T161537
CREATED:20241127T143134Z
LAST-MODIFIED:20251110T210954Z
UID:10002287-1907452800-1907539199@kaukauna.gov
SUMMARY:Recycle Pick-Up
DESCRIPTION:
URL:https://kaukauna.gov/event/recycle-pick-up/2030-06-12/
CATEGORIES:For Residents
ATTACH;FMTTYPE=image/png:https://kaukauna.gov/wp-content/uploads/2024/11/Recycle-photo-for-website.png
END:VEVENT
BEGIN:VEVENT
DTSTART;VALUE=DATE:20300613
DTEND;VALUE=DATE:20300614
DTSTAMP:20260422T161537
CREATED:20241127T143134Z
LAST-MODIFIED:20251110T210954Z
UID:10002288-1907539200-1907625599@kaukauna.gov
SUMMARY:Recycle Pick-Up
DESCRIPTION:
URL:https://kaukauna.gov/event/recycle-pick-up/2030-06-13/
CATEGORIES:For Residents
ATTACH;FMTTYPE=image/png:https://kaukauna.gov/wp-content/uploads/2024/11/Recycle-photo-for-website.png
END:VEVENT
BEGIN:VEVENT
DTSTART;VALUE=DATE:20300624
DTEND;VALUE=DATE:20300625
DTSTAMP:20260422T161537
CREATED:20241127T143134Z
LAST-MODIFIED:20251110T210954Z
UID:10002289-1908489600-1908575999@kaukauna.gov
SUMMARY:Recycle Pick-Up
DESCRIPTION:
URL:https://kaukauna.gov/event/recycle-pick-up/2030-06-24/
CATEGORIES:For Residents
ATTACH;FMTTYPE=image/png:https://kaukauna.gov/wp-content/uploads/2024/11/Recycle-photo-for-website.png
END:VEVENT
BEGIN:VEVENT
DTSTART;VALUE=DATE:20300625
DTEND;VALUE=DATE:20300626
DTSTAMP:20260422T161537
CREATED:20241127T143134Z
LAST-MODIFIED:20251110T210954Z
UID:10002290-1908576000-1908662399@kaukauna.gov
SUMMARY:Recycle Pick-Up
DESCRIPTION:
URL:https://kaukauna.gov/event/recycle-pick-up/2030-06-25/
CATEGORIES:For Residents
ATTACH;FMTTYPE=image/png:https://kaukauna.gov/wp-content/uploads/2024/11/Recycle-photo-for-website.png
END:VEVENT
BEGIN:VEVENT
DTSTART;VALUE=DATE:20300626
DTEND;VALUE=DATE:20300627
DTSTAMP:20260422T161537
CREATED:20241127T143134Z
LAST-MODIFIED:20251110T210954Z
UID:10002291-1908662400-1908748799@kaukauna.gov
SUMMARY:Recycle Pick-Up
DESCRIPTION:
URL:https://kaukauna.gov/event/recycle-pick-up/2030-06-26/
CATEGORIES:For Residents
ATTACH;FMTTYPE=image/png:https://kaukauna.gov/wp-content/uploads/2024/11/Recycle-photo-for-website.png
END:VEVENT
BEGIN:VEVENT
DTSTART;VALUE=DATE:20300627
DTEND;VALUE=DATE:20300628
DTSTAMP:20260422T161537
CREATED:20241127T143134Z
LAST-MODIFIED:20251110T210954Z
UID:10002292-1908748800-1908835199@kaukauna.gov
SUMMARY:Recycle Pick-Up
DESCRIPTION:
URL:https://kaukauna.gov/event/recycle-pick-up/2030-06-27/
CATEGORIES:For Residents
ATTACH;FMTTYPE=image/png:https://kaukauna.gov/wp-content/uploads/2024/11/Recycle-photo-for-website.png
END:VEVENT
END:VCALENDAR