BEGIN:VCALENDAR
VERSION:2.0
PRODID:-//City Of Kaukauna - ECPv6.15.20//NONSGML v1.0//EN
CALSCALE:GREGORIAN
METHOD:PUBLISH
X-WR-CALNAME:City Of Kaukauna
X-ORIGINAL-URL:https://kaukauna.gov
X-WR-CALDESC:Events for City Of Kaukauna
REFRESH-INTERVAL;VALUE=DURATION:PT1H
X-Robots-Tag:noindex
X-PUBLISHED-TTL:PT1H
BEGIN:VTIMEZONE
TZID:America/Chicago
BEGIN:DAYLIGHT
TZOFFSETFROM:-0600
TZOFFSETTO:-0500
TZNAME:CDT
DTSTART:20290311T080000
END:DAYLIGHT
BEGIN:STANDARD
TZOFFSETFROM:-0500
TZOFFSETTO:-0600
TZNAME:CST
DTSTART:20291104T070000
END:STANDARD
BEGIN:DAYLIGHT
TZOFFSETFROM:-0600
TZOFFSETTO:-0500
TZNAME:CDT
DTSTART:20300310T080000
END:DAYLIGHT
BEGIN:STANDARD
TZOFFSETFROM:-0500
TZOFFSETTO:-0600
TZNAME:CST
DTSTART:20301103T070000
END:STANDARD
BEGIN:DAYLIGHT
TZOFFSETFROM:-0600
TZOFFSETTO:-0500
TZNAME:CDT
DTSTART:20310309T080000
END:DAYLIGHT
BEGIN:STANDARD
TZOFFSETFROM:-0500
TZOFFSETTO:-0600
TZNAME:CST
DTSTART:20311102T070000
END:STANDARD
END:VTIMEZONE
BEGIN:VEVENT
DTSTART;VALUE=DATE:20300401
DTEND;VALUE=DATE:20300402
DTSTAMP:20260422T130855
CREATED:20241127T143134Z
LAST-MODIFIED:20251110T210954Z
UID:10002265-1901232000-1901318399@kaukauna.gov
SUMMARY:Recycle Pick-Up
DESCRIPTION:
URL:https://kaukauna.gov/event/recycle-pick-up/2030-04-01/
CATEGORIES:For Residents
ATTACH;FMTTYPE=image/png:https://kaukauna.gov/wp-content/uploads/2024/11/Recycle-photo-for-website.png
END:VEVENT
BEGIN:VEVENT
DTSTART;VALUE=DATE:20300402
DTEND;VALUE=DATE:20300403
DTSTAMP:20260422T130855
CREATED:20241127T143134Z
LAST-MODIFIED:20251110T210954Z
UID:10002266-1901318400-1901404799@kaukauna.gov
SUMMARY:Recycle Pick-Up
DESCRIPTION:
URL:https://kaukauna.gov/event/recycle-pick-up/2030-04-02/
CATEGORIES:For Residents
ATTACH;FMTTYPE=image/png:https://kaukauna.gov/wp-content/uploads/2024/11/Recycle-photo-for-website.png
END:VEVENT
BEGIN:VEVENT
DTSTART;VALUE=DATE:20300403
DTEND;VALUE=DATE:20300404
DTSTAMP:20260422T130855
CREATED:20241127T143134Z
LAST-MODIFIED:20251110T210954Z
UID:10002267-1901404800-1901491199@kaukauna.gov
SUMMARY:Recycle Pick-Up
DESCRIPTION:
URL:https://kaukauna.gov/event/recycle-pick-up/2030-04-03/
CATEGORIES:For Residents
ATTACH;FMTTYPE=image/png:https://kaukauna.gov/wp-content/uploads/2024/11/Recycle-photo-for-website.png
END:VEVENT
BEGIN:VEVENT
DTSTART;VALUE=DATE:20300404
DTEND;VALUE=DATE:20300405
DTSTAMP:20260422T130855
CREATED:20241127T143134Z
LAST-MODIFIED:20251110T210954Z
UID:10002268-1901491200-1901577599@kaukauna.gov
SUMMARY:Recycle Pick-Up
DESCRIPTION:
URL:https://kaukauna.gov/event/recycle-pick-up/2030-04-04/
CATEGORIES:For Residents
ATTACH;FMTTYPE=image/png:https://kaukauna.gov/wp-content/uploads/2024/11/Recycle-photo-for-website.png
END:VEVENT
BEGIN:VEVENT
DTSTART;VALUE=DATE:20300415
DTEND;VALUE=DATE:20300416
DTSTAMP:20260422T130855
CREATED:20241127T143134Z
LAST-MODIFIED:20251110T210954Z
UID:10002269-1902441600-1902527999@kaukauna.gov
SUMMARY:Recycle Pick-Up
DESCRIPTION:
URL:https://kaukauna.gov/event/recycle-pick-up/2030-04-15/
CATEGORIES:For Residents
ATTACH;FMTTYPE=image/png:https://kaukauna.gov/wp-content/uploads/2024/11/Recycle-photo-for-website.png
END:VEVENT
BEGIN:VEVENT
DTSTART;VALUE=DATE:20300416
DTEND;VALUE=DATE:20300417
DTSTAMP:20260422T130855
CREATED:20241127T143134Z
LAST-MODIFIED:20251110T210954Z
UID:10002270-1902528000-1902614399@kaukauna.gov
SUMMARY:Recycle Pick-Up
DESCRIPTION:
URL:https://kaukauna.gov/event/recycle-pick-up/2030-04-16/
CATEGORIES:For Residents
ATTACH;FMTTYPE=image/png:https://kaukauna.gov/wp-content/uploads/2024/11/Recycle-photo-for-website.png
END:VEVENT
BEGIN:VEVENT
DTSTART;VALUE=DATE:20300417
DTEND;VALUE=DATE:20300418
DTSTAMP:20260422T130855
CREATED:20241127T143134Z
LAST-MODIFIED:20251110T210954Z
UID:10002271-1902614400-1902700799@kaukauna.gov
SUMMARY:Recycle Pick-Up
DESCRIPTION:
URL:https://kaukauna.gov/event/recycle-pick-up/2030-04-17/
CATEGORIES:For Residents
ATTACH;FMTTYPE=image/png:https://kaukauna.gov/wp-content/uploads/2024/11/Recycle-photo-for-website.png
END:VEVENT
BEGIN:VEVENT
DTSTART;VALUE=DATE:20300418
DTEND;VALUE=DATE:20300419
DTSTAMP:20260422T130855
CREATED:20241127T143134Z
LAST-MODIFIED:20251110T210954Z
UID:10002272-1902700800-1902787199@kaukauna.gov
SUMMARY:Recycle Pick-Up
DESCRIPTION:
URL:https://kaukauna.gov/event/recycle-pick-up/2030-04-18/
CATEGORIES:For Residents
ATTACH;FMTTYPE=image/png:https://kaukauna.gov/wp-content/uploads/2024/11/Recycle-photo-for-website.png
END:VEVENT
BEGIN:VEVENT
DTSTART;VALUE=DATE:20300429
DTEND;VALUE=DATE:20300430
DTSTAMP:20260422T130855
CREATED:20241127T143134Z
LAST-MODIFIED:20251110T210954Z
UID:10002273-1903651200-1903737599@kaukauna.gov
SUMMARY:Recycle Pick-Up
DESCRIPTION:
URL:https://kaukauna.gov/event/recycle-pick-up/2030-04-29/
CATEGORIES:For Residents
ATTACH;FMTTYPE=image/png:https://kaukauna.gov/wp-content/uploads/2024/11/Recycle-photo-for-website.png
END:VEVENT
BEGIN:VEVENT
DTSTART;VALUE=DATE:20300430
DTEND;VALUE=DATE:20300501
DTSTAMP:20260422T130855
CREATED:20241127T143134Z
LAST-MODIFIED:20251110T210954Z
UID:10002274-1903737600-1903823999@kaukauna.gov
SUMMARY:Recycle Pick-Up
DESCRIPTION:
URL:https://kaukauna.gov/event/recycle-pick-up/2030-04-30/
CATEGORIES:For Residents
ATTACH;FMTTYPE=image/png:https://kaukauna.gov/wp-content/uploads/2024/11/Recycle-photo-for-website.png
END:VEVENT
END:VCALENDAR