BEGIN:VCALENDAR
VERSION:2.0
PRODID:-//City Of Kaukauna - ECPv6.15.20//NONSGML v1.0//EN
CALSCALE:GREGORIAN
METHOD:PUBLISH
X-WR-CALNAME:City Of Kaukauna
X-ORIGINAL-URL:https://kaukauna.gov
X-WR-CALDESC:Events for City Of Kaukauna
REFRESH-INTERVAL;VALUE=DURATION:PT1H
X-Robots-Tag:noindex
X-PUBLISHED-TTL:PT1H
BEGIN:VTIMEZONE
TZID:America/Chicago
BEGIN:DAYLIGHT
TZOFFSETFROM:-0600
TZOFFSETTO:-0500
TZNAME:CDT
DTSTART:20270314T080000
END:DAYLIGHT
BEGIN:STANDARD
TZOFFSETFROM:-0500
TZOFFSETTO:-0600
TZNAME:CST
DTSTART:20271107T070000
END:STANDARD
BEGIN:DAYLIGHT
TZOFFSETFROM:-0600
TZOFFSETTO:-0500
TZNAME:CDT
DTSTART:20280312T080000
END:DAYLIGHT
BEGIN:STANDARD
TZOFFSETFROM:-0500
TZOFFSETTO:-0600
TZNAME:CST
DTSTART:20281105T070000
END:STANDARD
BEGIN:DAYLIGHT
TZOFFSETFROM:-0600
TZOFFSETTO:-0500
TZNAME:CDT
DTSTART:20290311T080000
END:DAYLIGHT
BEGIN:STANDARD
TZOFFSETFROM:-0500
TZOFFSETTO:-0600
TZNAME:CST
DTSTART:20291104T070000
END:STANDARD
END:VTIMEZONE
BEGIN:VEVENT
DTSTART;VALUE=DATE:20280807
DTEND;VALUE=DATE:20280808
DTSTAMP:20260421T053756
CREATED:20241127T143134Z
LAST-MODIFIED:20251110T210954Z
UID:10000920-1849219200-1849305599@kaukauna.gov
SUMMARY:Recycle Pick-Up
DESCRIPTION:
URL:https://kaukauna.gov/event/recycle-pick-up/2028-08-07/
CATEGORIES:For Residents
ATTACH;FMTTYPE=image/png:https://kaukauna.gov/wp-content/uploads/2024/11/Recycle-photo-for-website.png
END:VEVENT
BEGIN:VEVENT
DTSTART;VALUE=DATE:20280808
DTEND;VALUE=DATE:20280809
DTSTAMP:20260421T053756
CREATED:20241127T143134Z
LAST-MODIFIED:20251110T210954Z
UID:10000921-1849305600-1849391999@kaukauna.gov
SUMMARY:Recycle Pick-Up
DESCRIPTION:
URL:https://kaukauna.gov/event/recycle-pick-up/2028-08-08/
CATEGORIES:For Residents
ATTACH;FMTTYPE=image/png:https://kaukauna.gov/wp-content/uploads/2024/11/Recycle-photo-for-website.png
END:VEVENT
BEGIN:VEVENT
DTSTART;VALUE=DATE:20280809
DTEND;VALUE=DATE:20280810
DTSTAMP:20260421T053756
CREATED:20241127T143134Z
LAST-MODIFIED:20251110T210954Z
UID:10000922-1849392000-1849478399@kaukauna.gov
SUMMARY:Recycle Pick-Up
DESCRIPTION:
URL:https://kaukauna.gov/event/recycle-pick-up/2028-08-09/
CATEGORIES:For Residents
ATTACH;FMTTYPE=image/png:https://kaukauna.gov/wp-content/uploads/2024/11/Recycle-photo-for-website.png
END:VEVENT
BEGIN:VEVENT
DTSTART;VALUE=DATE:20280810
DTEND;VALUE=DATE:20280811
DTSTAMP:20260421T053756
CREATED:20241127T143134Z
LAST-MODIFIED:20251110T210954Z
UID:10000923-1849478400-1849564799@kaukauna.gov
SUMMARY:Recycle Pick-Up
DESCRIPTION:
URL:https://kaukauna.gov/event/recycle-pick-up/2028-08-10/
CATEGORIES:For Residents
ATTACH;FMTTYPE=image/png:https://kaukauna.gov/wp-content/uploads/2024/11/Recycle-photo-for-website.png
END:VEVENT
BEGIN:VEVENT
DTSTART;VALUE=DATE:20280821
DTEND;VALUE=DATE:20280822
DTSTAMP:20260421T053756
CREATED:20241127T143134Z
LAST-MODIFIED:20251110T210954Z
UID:10000924-1850428800-1850515199@kaukauna.gov
SUMMARY:Recycle Pick-Up
DESCRIPTION:
URL:https://kaukauna.gov/event/recycle-pick-up/2028-08-21/
CATEGORIES:For Residents
ATTACH;FMTTYPE=image/png:https://kaukauna.gov/wp-content/uploads/2024/11/Recycle-photo-for-website.png
END:VEVENT
BEGIN:VEVENT
DTSTART;VALUE=DATE:20280822
DTEND;VALUE=DATE:20280823
DTSTAMP:20260421T053756
CREATED:20241127T143134Z
LAST-MODIFIED:20251110T210954Z
UID:10000925-1850515200-1850601599@kaukauna.gov
SUMMARY:Recycle Pick-Up
DESCRIPTION:
URL:https://kaukauna.gov/event/recycle-pick-up/2028-08-22/
CATEGORIES:For Residents
ATTACH;FMTTYPE=image/png:https://kaukauna.gov/wp-content/uploads/2024/11/Recycle-photo-for-website.png
END:VEVENT
BEGIN:VEVENT
DTSTART;VALUE=DATE:20280823
DTEND;VALUE=DATE:20280824
DTSTAMP:20260421T053756
CREATED:20241127T143134Z
LAST-MODIFIED:20251110T210954Z
UID:10000926-1850601600-1850687999@kaukauna.gov
SUMMARY:Recycle Pick-Up
DESCRIPTION:
URL:https://kaukauna.gov/event/recycle-pick-up/2028-08-23/
CATEGORIES:For Residents
ATTACH;FMTTYPE=image/png:https://kaukauna.gov/wp-content/uploads/2024/11/Recycle-photo-for-website.png
END:VEVENT
BEGIN:VEVENT
DTSTART;VALUE=DATE:20280824
DTEND;VALUE=DATE:20280825
DTSTAMP:20260421T053756
CREATED:20241127T143134Z
LAST-MODIFIED:20251110T210954Z
UID:10000927-1850688000-1850774399@kaukauna.gov
SUMMARY:Recycle Pick-Up
DESCRIPTION:
URL:https://kaukauna.gov/event/recycle-pick-up/2028-08-24/
CATEGORIES:For Residents
ATTACH;FMTTYPE=image/png:https://kaukauna.gov/wp-content/uploads/2024/11/Recycle-photo-for-website.png
END:VEVENT
END:VCALENDAR