BEGIN:VCALENDAR
VERSION:2.0
PRODID:-//City Of Kaukauna - ECPv6.15.20//NONSGML v1.0//EN
CALSCALE:GREGORIAN
METHOD:PUBLISH
X-WR-CALNAME:City Of Kaukauna
X-ORIGINAL-URL:https://kaukauna.gov
X-WR-CALDESC:Events for City Of Kaukauna
REFRESH-INTERVAL;VALUE=DURATION:PT1H
X-Robots-Tag:noindex
X-PUBLISHED-TTL:PT1H
BEGIN:VTIMEZONE
TZID:America/Chicago
BEGIN:DAYLIGHT
TZOFFSETFROM:-0600
TZOFFSETTO:-0500
TZNAME:CDT
DTSTART:20280312T080000
END:DAYLIGHT
BEGIN:STANDARD
TZOFFSETFROM:-0500
TZOFFSETTO:-0600
TZNAME:CST
DTSTART:20281105T070000
END:STANDARD
BEGIN:DAYLIGHT
TZOFFSETFROM:-0600
TZOFFSETTO:-0500
TZNAME:CDT
DTSTART:20290311T080000
END:DAYLIGHT
BEGIN:STANDARD
TZOFFSETFROM:-0500
TZOFFSETTO:-0600
TZNAME:CST
DTSTART:20291104T070000
END:STANDARD
BEGIN:DAYLIGHT
TZOFFSETFROM:-0600
TZOFFSETTO:-0500
TZNAME:CDT
DTSTART:20300310T080000
END:DAYLIGHT
BEGIN:STANDARD
TZOFFSETFROM:-0500
TZOFFSETTO:-0600
TZNAME:CST
DTSTART:20301103T070000
END:STANDARD
END:VTIMEZONE
BEGIN:VEVENT
DTSTART;VALUE=DATE:20290305
DTEND;VALUE=DATE:20290306
DTSTAMP:20260422T071024
CREATED:20241127T143134Z
LAST-MODIFIED:20251110T210954Z
UID:10000980-1867363200-1867449599@kaukauna.gov
SUMMARY:Recycle Pick-Up
DESCRIPTION:
URL:https://kaukauna.gov/event/recycle-pick-up/2029-03-05/
CATEGORIES:For Residents
ATTACH;FMTTYPE=image/png:https://kaukauna.gov/wp-content/uploads/2024/11/Recycle-photo-for-website.png
END:VEVENT
BEGIN:VEVENT
DTSTART;TZID=America/Chicago:20290305T180000
DTEND;TZID=America/Chicago:20290305T200000
DTSTAMP:20260422T071024
CREATED:20251110T160623Z
LAST-MODIFIED:20251110T160624Z
UID:10001359-1867428000-1867435200@kaukauna.gov
SUMMARY:Committee Meetings
DESCRIPTION:
URL:https://kaukauna.gov/event/committee-meetings-3/2029-03-05/
CATEGORIES:For Residents
ATTACH;FMTTYPE=image/png:https://kaukauna.gov/wp-content/uploads/2024/11/Municipal-Building-Photo-for-Website.png
END:VEVENT
BEGIN:VEVENT
DTSTART;VALUE=DATE:20290306
DTEND;VALUE=DATE:20290307
DTSTAMP:20260422T071024
CREATED:20241127T143134Z
LAST-MODIFIED:20251110T210954Z
UID:10000981-1867449600-1867535999@kaukauna.gov
SUMMARY:Recycle Pick-Up
DESCRIPTION:
URL:https://kaukauna.gov/event/recycle-pick-up/2029-03-06/
CATEGORIES:For Residents
ATTACH;FMTTYPE=image/png:https://kaukauna.gov/wp-content/uploads/2024/11/Recycle-photo-for-website.png
END:VEVENT
BEGIN:VEVENT
DTSTART;TZID=America/Chicago:20290306T190000
DTEND;TZID=America/Chicago:20290306T210000
DTSTAMP:20260422T071024
CREATED:20250630T113428Z
LAST-MODIFIED:20251110T161554Z
UID:10001108-1867518000-1867525200@kaukauna.gov
SUMMARY:Common Council Meeting
DESCRIPTION:
URL:https://kaukauna.gov/event/common-council-meeting-3/2029-03-06/
CATEGORIES:For Residents
ATTACH;FMTTYPE=image/png:https://kaukauna.gov/wp-content/uploads/2024/11/Municipal-Building-Photo-for-Website.png
END:VEVENT
BEGIN:VEVENT
DTSTART;VALUE=DATE:20290307
DTEND;VALUE=DATE:20290308
DTSTAMP:20260422T071024
CREATED:20241127T143134Z
LAST-MODIFIED:20251110T210954Z
UID:10000982-1867536000-1867622399@kaukauna.gov
SUMMARY:Recycle Pick-Up
DESCRIPTION:
URL:https://kaukauna.gov/event/recycle-pick-up/2029-03-07/
CATEGORIES:For Residents
ATTACH;FMTTYPE=image/png:https://kaukauna.gov/wp-content/uploads/2024/11/Recycle-photo-for-website.png
END:VEVENT
BEGIN:VEVENT
DTSTART;VALUE=DATE:20290308
DTEND;VALUE=DATE:20290309
DTSTAMP:20260422T071024
CREATED:20241127T143134Z
LAST-MODIFIED:20251110T210954Z
UID:10000983-1867622400-1867708799@kaukauna.gov
SUMMARY:Recycle Pick-Up
DESCRIPTION:
URL:https://kaukauna.gov/event/recycle-pick-up/2029-03-08/
CATEGORIES:For Residents
ATTACH;FMTTYPE=image/png:https://kaukauna.gov/wp-content/uploads/2024/11/Recycle-photo-for-website.png
END:VEVENT
BEGIN:VEVENT
DTSTART;VALUE=DATE:20290319
DTEND;VALUE=DATE:20290320
DTSTAMP:20260422T071024
CREATED:20241127T143134Z
LAST-MODIFIED:20251110T210954Z
UID:10000984-1868572800-1868659199@kaukauna.gov
SUMMARY:Recycle Pick-Up
DESCRIPTION:
URL:https://kaukauna.gov/event/recycle-pick-up/2029-03-19/
CATEGORIES:For Residents
ATTACH;FMTTYPE=image/png:https://kaukauna.gov/wp-content/uploads/2024/11/Recycle-photo-for-website.png
END:VEVENT
BEGIN:VEVENT
DTSTART;TZID=America/Chicago:20290319T180000
DTEND;TZID=America/Chicago:20290319T200000
DTSTAMP:20260422T071024
CREATED:20241203T151815Z
LAST-MODIFIED:20251110T184701Z
UID:10001298-1868637600-1868644800@kaukauna.gov
SUMMARY:Committee Meetings
DESCRIPTION:
URL:https://kaukauna.gov/event/committee-meetings-2/2029-03-19/
CATEGORIES:For Residents
ATTACH;FMTTYPE=image/png:https://kaukauna.gov/wp-content/uploads/2024/11/Municipal-Building-Photo-for-Website.png
END:VEVENT
BEGIN:VEVENT
DTSTART;VALUE=DATE:20290320
DTEND;VALUE=DATE:20290321
DTSTAMP:20260422T071024
CREATED:20241127T143134Z
LAST-MODIFIED:20251110T210954Z
UID:10000985-1868659200-1868745599@kaukauna.gov
SUMMARY:Recycle Pick-Up
DESCRIPTION:
URL:https://kaukauna.gov/event/recycle-pick-up/2029-03-20/
CATEGORIES:For Residents
ATTACH;FMTTYPE=image/png:https://kaukauna.gov/wp-content/uploads/2024/11/Recycle-photo-for-website.png
END:VEVENT
BEGIN:VEVENT
DTSTART;TZID=America/Chicago:20290320T190000
DTEND;TZID=America/Chicago:20290320T210000
DTSTAMP:20260422T071024
CREATED:20241127T150231Z
LAST-MODIFIED:20251110T184806Z
UID:10001167-1868727600-1868734800@kaukauna.gov
SUMMARY:Common Council Meeting
DESCRIPTION:
URL:https://kaukauna.gov/event/common-council-meeting-2/2029-03-20/
CATEGORIES:For Residents
ATTACH;FMTTYPE=image/png:https://kaukauna.gov/wp-content/uploads/2024/11/Municipal-Building-Photo-for-Website.png
END:VEVENT
BEGIN:VEVENT
DTSTART;VALUE=DATE:20290321
DTEND;VALUE=DATE:20290322
DTSTAMP:20260422T071024
CREATED:20241127T143134Z
LAST-MODIFIED:20251110T210954Z
UID:10000986-1868745600-1868831999@kaukauna.gov
SUMMARY:Recycle Pick-Up
DESCRIPTION:
URL:https://kaukauna.gov/event/recycle-pick-up/2029-03-21/
CATEGORIES:For Residents
ATTACH;FMTTYPE=image/png:https://kaukauna.gov/wp-content/uploads/2024/11/Recycle-photo-for-website.png
END:VEVENT
BEGIN:VEVENT
DTSTART;VALUE=DATE:20290322
DTEND;VALUE=DATE:20290323
DTSTAMP:20260422T071024
CREATED:20241127T143134Z
LAST-MODIFIED:20251110T210954Z
UID:10000987-1868832000-1868918399@kaukauna.gov
SUMMARY:Recycle Pick-Up
DESCRIPTION:
URL:https://kaukauna.gov/event/recycle-pick-up/2029-03-22/
CATEGORIES:For Residents
ATTACH;FMTTYPE=image/png:https://kaukauna.gov/wp-content/uploads/2024/11/Recycle-photo-for-website.png
END:VEVENT
BEGIN:VEVENT
DTSTART;VALUE=DATE:20290402
DTEND;VALUE=DATE:20290403
DTSTAMP:20260422T071024
CREATED:20241127T143134Z
LAST-MODIFIED:20251110T210954Z
UID:10000988-1869782400-1869868799@kaukauna.gov
SUMMARY:Recycle Pick-Up
DESCRIPTION:
URL:https://kaukauna.gov/event/recycle-pick-up/2029-04-02/
CATEGORIES:For Residents
ATTACH;FMTTYPE=image/png:https://kaukauna.gov/wp-content/uploads/2024/11/Recycle-photo-for-website.png
END:VEVENT
BEGIN:VEVENT
DTSTART;TZID=America/Chicago:20290402T180000
DTEND;TZID=America/Chicago:20290402T200000
DTSTAMP:20260422T071024
CREATED:20251110T160623Z
LAST-MODIFIED:20251110T160624Z
UID:10001360-1869847200-1869854400@kaukauna.gov
SUMMARY:Committee Meetings
DESCRIPTION:
URL:https://kaukauna.gov/event/committee-meetings-3/2029-04-02/
CATEGORIES:For Residents
ATTACH;FMTTYPE=image/png:https://kaukauna.gov/wp-content/uploads/2024/11/Municipal-Building-Photo-for-Website.png
END:VEVENT
BEGIN:VEVENT
DTSTART;VALUE=DATE:20290403
DTEND;VALUE=DATE:20290404
DTSTAMP:20260422T071024
CREATED:20241127T143134Z
LAST-MODIFIED:20251110T210954Z
UID:10000989-1869868800-1869955199@kaukauna.gov
SUMMARY:Recycle Pick-Up
DESCRIPTION:
URL:https://kaukauna.gov/event/recycle-pick-up/2029-04-03/
CATEGORIES:For Residents
ATTACH;FMTTYPE=image/png:https://kaukauna.gov/wp-content/uploads/2024/11/Recycle-photo-for-website.png
END:VEVENT
BEGIN:VEVENT
DTSTART;TZID=America/Chicago:20290403T190000
DTEND;TZID=America/Chicago:20290403T210000
DTSTAMP:20260422T071024
CREATED:20250630T113428Z
LAST-MODIFIED:20251110T161554Z
UID:10001109-1869937200-1869944400@kaukauna.gov
SUMMARY:Common Council Meeting
DESCRIPTION:
URL:https://kaukauna.gov/event/common-council-meeting-3/2029-04-03/
CATEGORIES:For Residents
ATTACH;FMTTYPE=image/png:https://kaukauna.gov/wp-content/uploads/2024/11/Municipal-Building-Photo-for-Website.png
END:VEVENT
BEGIN:VEVENT
DTSTART;VALUE=DATE:20290404
DTEND;VALUE=DATE:20290405
DTSTAMP:20260422T071024
CREATED:20241127T143134Z
LAST-MODIFIED:20251110T210954Z
UID:10000990-1869955200-1870041599@kaukauna.gov
SUMMARY:Recycle Pick-Up
DESCRIPTION:
URL:https://kaukauna.gov/event/recycle-pick-up/2029-04-04/
CATEGORIES:For Residents
ATTACH;FMTTYPE=image/png:https://kaukauna.gov/wp-content/uploads/2024/11/Recycle-photo-for-website.png
END:VEVENT
BEGIN:VEVENT
DTSTART;VALUE=DATE:20290405
DTEND;VALUE=DATE:20290406
DTSTAMP:20260422T071024
CREATED:20241127T143134Z
LAST-MODIFIED:20251110T210954Z
UID:10000991-1870041600-1870127999@kaukauna.gov
SUMMARY:Recycle Pick-Up
DESCRIPTION:
URL:https://kaukauna.gov/event/recycle-pick-up/2029-04-05/
CATEGORIES:For Residents
ATTACH;FMTTYPE=image/png:https://kaukauna.gov/wp-content/uploads/2024/11/Recycle-photo-for-website.png
END:VEVENT
BEGIN:VEVENT
DTSTART;VALUE=DATE:20290416
DTEND;VALUE=DATE:20290417
DTSTAMP:20260422T071024
CREATED:20241127T143134Z
LAST-MODIFIED:20251110T210954Z
UID:10000992-1870992000-1871078399@kaukauna.gov
SUMMARY:Recycle Pick-Up
DESCRIPTION:
URL:https://kaukauna.gov/event/recycle-pick-up/2029-04-16/
CATEGORIES:For Residents
ATTACH;FMTTYPE=image/png:https://kaukauna.gov/wp-content/uploads/2024/11/Recycle-photo-for-website.png
END:VEVENT
BEGIN:VEVENT
DTSTART;TZID=America/Chicago:20290416T180000
DTEND;TZID=America/Chicago:20290416T200000
DTSTAMP:20260422T071024
CREATED:20241203T151815Z
LAST-MODIFIED:20251110T184701Z
UID:10001299-1871056800-1871064000@kaukauna.gov
SUMMARY:Committee Meetings
DESCRIPTION:
URL:https://kaukauna.gov/event/committee-meetings-2/2029-04-16/
CATEGORIES:For Residents
ATTACH;FMTTYPE=image/png:https://kaukauna.gov/wp-content/uploads/2024/11/Municipal-Building-Photo-for-Website.png
END:VEVENT
BEGIN:VEVENT
DTSTART;VALUE=DATE:20290417
DTEND;VALUE=DATE:20290418
DTSTAMP:20260422T071024
CREATED:20241127T143134Z
LAST-MODIFIED:20251110T210954Z
UID:10000993-1871078400-1871164799@kaukauna.gov
SUMMARY:Recycle Pick-Up
DESCRIPTION:
URL:https://kaukauna.gov/event/recycle-pick-up/2029-04-17/
CATEGORIES:For Residents
ATTACH;FMTTYPE=image/png:https://kaukauna.gov/wp-content/uploads/2024/11/Recycle-photo-for-website.png
END:VEVENT
BEGIN:VEVENT
DTSTART;TZID=America/Chicago:20290417T190000
DTEND;TZID=America/Chicago:20290417T210000
DTSTAMP:20260422T071024
CREATED:20241127T150231Z
LAST-MODIFIED:20251110T184806Z
UID:10001168-1871146800-1871154000@kaukauna.gov
SUMMARY:Common Council Meeting
DESCRIPTION:
URL:https://kaukauna.gov/event/common-council-meeting-2/2029-04-17/
CATEGORIES:For Residents
ATTACH;FMTTYPE=image/png:https://kaukauna.gov/wp-content/uploads/2024/11/Municipal-Building-Photo-for-Website.png
END:VEVENT
BEGIN:VEVENT
DTSTART;VALUE=DATE:20290418
DTEND;VALUE=DATE:20290419
DTSTAMP:20260422T071024
CREATED:20241127T143134Z
LAST-MODIFIED:20251110T210954Z
UID:10000994-1871164800-1871251199@kaukauna.gov
SUMMARY:Recycle Pick-Up
DESCRIPTION:
URL:https://kaukauna.gov/event/recycle-pick-up/2029-04-18/
CATEGORIES:For Residents
ATTACH;FMTTYPE=image/png:https://kaukauna.gov/wp-content/uploads/2024/11/Recycle-photo-for-website.png
END:VEVENT
BEGIN:VEVENT
DTSTART;VALUE=DATE:20290419
DTEND;VALUE=DATE:20290420
DTSTAMP:20260422T071024
CREATED:20241127T143134Z
LAST-MODIFIED:20251110T210954Z
UID:10000995-1871251200-1871337599@kaukauna.gov
SUMMARY:Recycle Pick-Up
DESCRIPTION:
URL:https://kaukauna.gov/event/recycle-pick-up/2029-04-19/
CATEGORIES:For Residents
ATTACH;FMTTYPE=image/png:https://kaukauna.gov/wp-content/uploads/2024/11/Recycle-photo-for-website.png
END:VEVENT
BEGIN:VEVENT
DTSTART;VALUE=DATE:20290430
DTEND;VALUE=DATE:20290501
DTSTAMP:20260422T071024
CREATED:20241127T143134Z
LAST-MODIFIED:20251110T210954Z
UID:10000996-1872201600-1872287999@kaukauna.gov
SUMMARY:Recycle Pick-Up
DESCRIPTION:
URL:https://kaukauna.gov/event/recycle-pick-up/2029-04-30/
CATEGORIES:For Residents
ATTACH;FMTTYPE=image/png:https://kaukauna.gov/wp-content/uploads/2024/11/Recycle-photo-for-website.png
END:VEVENT
BEGIN:VEVENT
DTSTART;VALUE=DATE:20290501
DTEND;VALUE=DATE:20290502
DTSTAMP:20260422T071024
CREATED:20241127T143134Z
LAST-MODIFIED:20251110T210954Z
UID:10000997-1872288000-1872374399@kaukauna.gov
SUMMARY:Recycle Pick-Up
DESCRIPTION:
URL:https://kaukauna.gov/event/recycle-pick-up/2029-05-01/
CATEGORIES:For Residents
ATTACH;FMTTYPE=image/png:https://kaukauna.gov/wp-content/uploads/2024/11/Recycle-photo-for-website.png
END:VEVENT
BEGIN:VEVENT
DTSTART;TZID=America/Chicago:20290501T190000
DTEND;TZID=America/Chicago:20290501T210000
DTSTAMP:20260422T071024
CREATED:20250630T113428Z
LAST-MODIFIED:20251110T161554Z
UID:10001110-1872356400-1872363600@kaukauna.gov
SUMMARY:Common Council Meeting
DESCRIPTION:
URL:https://kaukauna.gov/event/common-council-meeting-3/2029-05-01/
CATEGORIES:For Residents
ATTACH;FMTTYPE=image/png:https://kaukauna.gov/wp-content/uploads/2024/11/Municipal-Building-Photo-for-Website.png
END:VEVENT
BEGIN:VEVENT
DTSTART;VALUE=DATE:20290502
DTEND;VALUE=DATE:20290503
DTSTAMP:20260422T071024
CREATED:20241127T143134Z
LAST-MODIFIED:20251110T210954Z
UID:10000998-1872374400-1872460799@kaukauna.gov
SUMMARY:Recycle Pick-Up
DESCRIPTION:
URL:https://kaukauna.gov/event/recycle-pick-up/2029-05-02/
CATEGORIES:For Residents
ATTACH;FMTTYPE=image/png:https://kaukauna.gov/wp-content/uploads/2024/11/Recycle-photo-for-website.png
END:VEVENT
BEGIN:VEVENT
DTSTART;VALUE=DATE:20290503
DTEND;VALUE=DATE:20290504
DTSTAMP:20260422T071024
CREATED:20241127T143134Z
LAST-MODIFIED:20251110T210954Z
UID:10000999-1872460800-1872547199@kaukauna.gov
SUMMARY:Recycle Pick-Up
DESCRIPTION:
URL:https://kaukauna.gov/event/recycle-pick-up/2029-05-03/
CATEGORIES:For Residents
ATTACH;FMTTYPE=image/png:https://kaukauna.gov/wp-content/uploads/2024/11/Recycle-photo-for-website.png
END:VEVENT
BEGIN:VEVENT
DTSTART;TZID=America/Chicago:20290507T180000
DTEND;TZID=America/Chicago:20290507T200000
DTSTAMP:20260422T071024
CREATED:20251110T160623Z
LAST-MODIFIED:20251110T160624Z
UID:10001361-1872871200-1872878400@kaukauna.gov
SUMMARY:Committee Meetings
DESCRIPTION:
URL:https://kaukauna.gov/event/committee-meetings-3/2029-05-07/
CATEGORIES:For Residents
ATTACH;FMTTYPE=image/png:https://kaukauna.gov/wp-content/uploads/2024/11/Municipal-Building-Photo-for-Website.png
END:VEVENT
END:VCALENDAR