BEGIN:VCALENDAR
VERSION:2.0
PRODID:-//City Of Kaukauna - ECPv6.15.20//NONSGML v1.0//EN
CALSCALE:GREGORIAN
METHOD:PUBLISH
X-ORIGINAL-URL:https://kaukauna.gov
X-WR-CALDESC:Events for City Of Kaukauna
REFRESH-INTERVAL;VALUE=DURATION:PT1H
X-Robots-Tag:noindex
X-PUBLISHED-TTL:PT1H
BEGIN:VTIMEZONE
TZID:America/Chicago
BEGIN:DAYLIGHT
TZOFFSETFROM:-0600
TZOFFSETTO:-0500
TZNAME:CDT
DTSTART:20270314T080000
END:DAYLIGHT
BEGIN:STANDARD
TZOFFSETFROM:-0500
TZOFFSETTO:-0600
TZNAME:CST
DTSTART:20271107T070000
END:STANDARD
BEGIN:DAYLIGHT
TZOFFSETFROM:-0600
TZOFFSETTO:-0500
TZNAME:CDT
DTSTART:20280312T080000
END:DAYLIGHT
BEGIN:STANDARD
TZOFFSETFROM:-0500
TZOFFSETTO:-0600
TZNAME:CST
DTSTART:20281105T070000
END:STANDARD
BEGIN:DAYLIGHT
TZOFFSETFROM:-0600
TZOFFSETTO:-0500
TZNAME:CDT
DTSTART:20290311T080000
END:DAYLIGHT
BEGIN:STANDARD
TZOFFSETFROM:-0500
TZOFFSETTO:-0600
TZNAME:CST
DTSTART:20291104T070000
END:STANDARD
BEGIN:DAYLIGHT
TZOFFSETFROM:-0600
TZOFFSETTO:-0500
TZNAME:CDT
DTSTART:20300310T080000
END:DAYLIGHT
BEGIN:STANDARD
TZOFFSETFROM:-0500
TZOFFSETTO:-0600
TZNAME:CST
DTSTART:20301103T070000
END:STANDARD
END:VTIMEZONE
BEGIN:VEVENT
DTSTART;TZID=America/Chicago:20281204T180000
DTEND;TZID=America/Chicago:20281204T200000
DTSTAMP:20260422T015818
CREATED:20251110T160623Z
LAST-MODIFIED:20251110T160624Z
UID:10001356-1859565600-1859572800@kaukauna.gov
SUMMARY:Committee Meetings
DESCRIPTION:
URL:https://kaukauna.gov/event/committee-meetings-3/2028-12-04/
CATEGORIES:For Residents
ATTACH;FMTTYPE=image/png:https://kaukauna.gov/wp-content/uploads/2024/11/Municipal-Building-Photo-for-Website.png
END:VEVENT
BEGIN:VEVENT
DTSTART;TZID=America/Chicago:20281205T190000
DTEND;TZID=America/Chicago:20281205T210000
DTSTAMP:20260422T015818
CREATED:20250630T113428Z
LAST-MODIFIED:20251110T161554Z
UID:10001105-1859655600-1859662800@kaukauna.gov
SUMMARY:Common Council Meeting
DESCRIPTION:
URL:https://kaukauna.gov/event/common-council-meeting-3/2028-12-05/
CATEGORIES:For Residents
ATTACH;FMTTYPE=image/png:https://kaukauna.gov/wp-content/uploads/2024/11/Municipal-Building-Photo-for-Website.png
END:VEVENT
BEGIN:VEVENT
DTSTART;VALUE=DATE:20281211
DTEND;VALUE=DATE:20281212
DTSTAMP:20260422T015818
CREATED:20241127T143134Z
LAST-MODIFIED:20251110T210954Z
UID:10000956-1860105600-1860191999@kaukauna.gov
SUMMARY:Recycle Pick-Up
DESCRIPTION:
URL:https://kaukauna.gov/event/recycle-pick-up/2028-12-11/
CATEGORIES:For Residents
ATTACH;FMTTYPE=image/png:https://kaukauna.gov/wp-content/uploads/2024/11/Recycle-photo-for-website.png
END:VEVENT
BEGIN:VEVENT
DTSTART;VALUE=DATE:20281212
DTEND;VALUE=DATE:20281213
DTSTAMP:20260422T015818
CREATED:20241127T143134Z
LAST-MODIFIED:20251110T210954Z
UID:10000957-1860192000-1860278399@kaukauna.gov
SUMMARY:Recycle Pick-Up
DESCRIPTION:
URL:https://kaukauna.gov/event/recycle-pick-up/2028-12-12/
CATEGORIES:For Residents
ATTACH;FMTTYPE=image/png:https://kaukauna.gov/wp-content/uploads/2024/11/Recycle-photo-for-website.png
END:VEVENT
BEGIN:VEVENT
DTSTART;VALUE=DATE:20281213
DTEND;VALUE=DATE:20281214
DTSTAMP:20260422T015818
CREATED:20241127T143134Z
LAST-MODIFIED:20251110T210954Z
UID:10000958-1860278400-1860364799@kaukauna.gov
SUMMARY:Recycle Pick-Up
DESCRIPTION:
URL:https://kaukauna.gov/event/recycle-pick-up/2028-12-13/
CATEGORIES:For Residents
ATTACH;FMTTYPE=image/png:https://kaukauna.gov/wp-content/uploads/2024/11/Recycle-photo-for-website.png
END:VEVENT
BEGIN:VEVENT
DTSTART;VALUE=DATE:20281214
DTEND;VALUE=DATE:20281215
DTSTAMP:20260422T015818
CREATED:20241127T143134Z
LAST-MODIFIED:20251110T210954Z
UID:10000959-1860364800-1860451199@kaukauna.gov
SUMMARY:Recycle Pick-Up
DESCRIPTION:
URL:https://kaukauna.gov/event/recycle-pick-up/2028-12-14/
CATEGORIES:For Residents
ATTACH;FMTTYPE=image/png:https://kaukauna.gov/wp-content/uploads/2024/11/Recycle-photo-for-website.png
END:VEVENT
BEGIN:VEVENT
DTSTART;TZID=America/Chicago:20281218T180000
DTEND;TZID=America/Chicago:20281218T200000
DTSTAMP:20260422T015818
CREATED:20241203T151815Z
LAST-MODIFIED:20251110T184701Z
UID:10001295-1860775200-1860782400@kaukauna.gov
SUMMARY:Committee Meetings
DESCRIPTION:
URL:https://kaukauna.gov/event/committee-meetings-2/2028-12-18/
CATEGORIES:For Residents
ATTACH;FMTTYPE=image/png:https://kaukauna.gov/wp-content/uploads/2024/11/Municipal-Building-Photo-for-Website.png
END:VEVENT
BEGIN:VEVENT
DTSTART;TZID=America/Chicago:20281219T190000
DTEND;TZID=America/Chicago:20281219T210000
DTSTAMP:20260422T015818
CREATED:20241127T150231Z
LAST-MODIFIED:20251110T184806Z
UID:10001164-1860865200-1860872400@kaukauna.gov
SUMMARY:Common Council Meeting
DESCRIPTION:
URL:https://kaukauna.gov/event/common-council-meeting-2/2028-12-19/
CATEGORIES:For Residents
ATTACH;FMTTYPE=image/png:https://kaukauna.gov/wp-content/uploads/2024/11/Municipal-Building-Photo-for-Website.png
END:VEVENT
BEGIN:VEVENT
DTSTART;VALUE=DATE:20281225
DTEND;VALUE=DATE:20281226
DTSTAMP:20260422T015818
CREATED:20241127T143134Z
LAST-MODIFIED:20251110T210954Z
UID:10000960-1861315200-1861401599@kaukauna.gov
SUMMARY:Recycle Pick-Up
DESCRIPTION:
URL:https://kaukauna.gov/event/recycle-pick-up/2028-12-25/
CATEGORIES:For Residents
ATTACH;FMTTYPE=image/png:https://kaukauna.gov/wp-content/uploads/2024/11/Recycle-photo-for-website.png
END:VEVENT
BEGIN:VEVENT
DTSTART;VALUE=DATE:20281226
DTEND;VALUE=DATE:20281227
DTSTAMP:20260422T015818
CREATED:20241127T143134Z
LAST-MODIFIED:20251110T210954Z
UID:10000961-1861401600-1861487999@kaukauna.gov
SUMMARY:Recycle Pick-Up
DESCRIPTION:
URL:https://kaukauna.gov/event/recycle-pick-up/2028-12-26/
CATEGORIES:For Residents
ATTACH;FMTTYPE=image/png:https://kaukauna.gov/wp-content/uploads/2024/11/Recycle-photo-for-website.png
END:VEVENT
BEGIN:VEVENT
DTSTART;VALUE=DATE:20281227
DTEND;VALUE=DATE:20281228
DTSTAMP:20260422T015818
CREATED:20241127T143134Z
LAST-MODIFIED:20251110T210954Z
UID:10000962-1861488000-1861574399@kaukauna.gov
SUMMARY:Recycle Pick-Up
DESCRIPTION:
URL:https://kaukauna.gov/event/recycle-pick-up/2028-12-27/
CATEGORIES:For Residents
ATTACH;FMTTYPE=image/png:https://kaukauna.gov/wp-content/uploads/2024/11/Recycle-photo-for-website.png
END:VEVENT
BEGIN:VEVENT
DTSTART;VALUE=DATE:20281228
DTEND;VALUE=DATE:20281229
DTSTAMP:20260422T015818
CREATED:20241127T143134Z
LAST-MODIFIED:20251110T210954Z
UID:10000963-1861574400-1861660799@kaukauna.gov
SUMMARY:Recycle Pick-Up
DESCRIPTION:
URL:https://kaukauna.gov/event/recycle-pick-up/2028-12-28/
CATEGORIES:For Residents
ATTACH;FMTTYPE=image/png:https://kaukauna.gov/wp-content/uploads/2024/11/Recycle-photo-for-website.png
END:VEVENT
BEGIN:VEVENT
DTSTART;TZID=America/Chicago:20290101T180000
DTEND;TZID=America/Chicago:20290101T200000
DTSTAMP:20260422T015818
CREATED:20251110T160623Z
LAST-MODIFIED:20251110T160624Z
UID:10001357-1861984800-1861992000@kaukauna.gov
SUMMARY:Committee Meetings
DESCRIPTION:
URL:https://kaukauna.gov/event/committee-meetings-3/2029-01-01/
CATEGORIES:For Residents
ATTACH;FMTTYPE=image/png:https://kaukauna.gov/wp-content/uploads/2024/11/Municipal-Building-Photo-for-Website.png
END:VEVENT
BEGIN:VEVENT
DTSTART;TZID=America/Chicago:20290102T190000
DTEND;TZID=America/Chicago:20290102T210000
DTSTAMP:20260422T015818
CREATED:20250630T113428Z
LAST-MODIFIED:20251110T161554Z
UID:10001106-1862074800-1862082000@kaukauna.gov
SUMMARY:Common Council Meeting
DESCRIPTION:
URL:https://kaukauna.gov/event/common-council-meeting-3/2029-01-02/
CATEGORIES:For Residents
ATTACH;FMTTYPE=image/png:https://kaukauna.gov/wp-content/uploads/2024/11/Municipal-Building-Photo-for-Website.png
END:VEVENT
BEGIN:VEVENT
DTSTART;VALUE=DATE:20290108
DTEND;VALUE=DATE:20290109
DTSTAMP:20260422T015818
CREATED:20241127T143134Z
LAST-MODIFIED:20251110T210954Z
UID:10000964-1862524800-1862611199@kaukauna.gov
SUMMARY:Recycle Pick-Up
DESCRIPTION:
URL:https://kaukauna.gov/event/recycle-pick-up/2029-01-08/
CATEGORIES:For Residents
ATTACH;FMTTYPE=image/png:https://kaukauna.gov/wp-content/uploads/2024/11/Recycle-photo-for-website.png
END:VEVENT
BEGIN:VEVENT
DTSTART;VALUE=DATE:20290109
DTEND;VALUE=DATE:20290110
DTSTAMP:20260422T015818
CREATED:20241127T143134Z
LAST-MODIFIED:20251110T210954Z
UID:10000965-1862611200-1862697599@kaukauna.gov
SUMMARY:Recycle Pick-Up
DESCRIPTION:
URL:https://kaukauna.gov/event/recycle-pick-up/2029-01-09/
CATEGORIES:For Residents
ATTACH;FMTTYPE=image/png:https://kaukauna.gov/wp-content/uploads/2024/11/Recycle-photo-for-website.png
END:VEVENT
BEGIN:VEVENT
DTSTART;VALUE=DATE:20290110
DTEND;VALUE=DATE:20290111
DTSTAMP:20260422T015818
CREATED:20241127T143134Z
LAST-MODIFIED:20251110T210954Z
UID:10000966-1862697600-1862783999@kaukauna.gov
SUMMARY:Recycle Pick-Up
DESCRIPTION:
URL:https://kaukauna.gov/event/recycle-pick-up/2029-01-10/
CATEGORIES:For Residents
ATTACH;FMTTYPE=image/png:https://kaukauna.gov/wp-content/uploads/2024/11/Recycle-photo-for-website.png
END:VEVENT
BEGIN:VEVENT
DTSTART;VALUE=DATE:20290111
DTEND;VALUE=DATE:20290112
DTSTAMP:20260422T015818
CREATED:20241127T143134Z
LAST-MODIFIED:20251110T210954Z
UID:10000967-1862784000-1862870399@kaukauna.gov
SUMMARY:Recycle Pick-Up
DESCRIPTION:
URL:https://kaukauna.gov/event/recycle-pick-up/2029-01-11/
CATEGORIES:For Residents
ATTACH;FMTTYPE=image/png:https://kaukauna.gov/wp-content/uploads/2024/11/Recycle-photo-for-website.png
END:VEVENT
BEGIN:VEVENT
DTSTART;TZID=America/Chicago:20290115T180000
DTEND;TZID=America/Chicago:20290115T200000
DTSTAMP:20260422T015818
CREATED:20241203T151815Z
LAST-MODIFIED:20251110T184701Z
UID:10001296-1863194400-1863201600@kaukauna.gov
SUMMARY:Committee Meetings
DESCRIPTION:
URL:https://kaukauna.gov/event/committee-meetings-2/2029-01-15/
CATEGORIES:For Residents
ATTACH;FMTTYPE=image/png:https://kaukauna.gov/wp-content/uploads/2024/11/Municipal-Building-Photo-for-Website.png
END:VEVENT
BEGIN:VEVENT
DTSTART;TZID=America/Chicago:20290116T190000
DTEND;TZID=America/Chicago:20290116T210000
DTSTAMP:20260422T015818
CREATED:20241127T150231Z
LAST-MODIFIED:20251110T184806Z
UID:10001165-1863284400-1863291600@kaukauna.gov
SUMMARY:Common Council Meeting
DESCRIPTION:
URL:https://kaukauna.gov/event/common-council-meeting-2/2029-01-16/
CATEGORIES:For Residents
ATTACH;FMTTYPE=image/png:https://kaukauna.gov/wp-content/uploads/2024/11/Municipal-Building-Photo-for-Website.png
END:VEVENT
BEGIN:VEVENT
DTSTART;VALUE=DATE:20290122
DTEND;VALUE=DATE:20290123
DTSTAMP:20260422T015818
CREATED:20241127T143134Z
LAST-MODIFIED:20251110T210954Z
UID:10000968-1863734400-1863820799@kaukauna.gov
SUMMARY:Recycle Pick-Up
DESCRIPTION:
URL:https://kaukauna.gov/event/recycle-pick-up/2029-01-22/
CATEGORIES:For Residents
ATTACH;FMTTYPE=image/png:https://kaukauna.gov/wp-content/uploads/2024/11/Recycle-photo-for-website.png
END:VEVENT
BEGIN:VEVENT
DTSTART;VALUE=DATE:20290123
DTEND;VALUE=DATE:20290124
DTSTAMP:20260422T015818
CREATED:20241127T143134Z
LAST-MODIFIED:20251110T210954Z
UID:10000969-1863820800-1863907199@kaukauna.gov
SUMMARY:Recycle Pick-Up
DESCRIPTION:
URL:https://kaukauna.gov/event/recycle-pick-up/2029-01-23/
CATEGORIES:For Residents
ATTACH;FMTTYPE=image/png:https://kaukauna.gov/wp-content/uploads/2024/11/Recycle-photo-for-website.png
END:VEVENT
BEGIN:VEVENT
DTSTART;VALUE=DATE:20290124
DTEND;VALUE=DATE:20290125
DTSTAMP:20260422T015818
CREATED:20241127T143134Z
LAST-MODIFIED:20251110T210954Z
UID:10000970-1863907200-1863993599@kaukauna.gov
SUMMARY:Recycle Pick-Up
DESCRIPTION:
URL:https://kaukauna.gov/event/recycle-pick-up/2029-01-24/
CATEGORIES:For Residents
ATTACH;FMTTYPE=image/png:https://kaukauna.gov/wp-content/uploads/2024/11/Recycle-photo-for-website.png
END:VEVENT
BEGIN:VEVENT
DTSTART;VALUE=DATE:20290125
DTEND;VALUE=DATE:20290126
DTSTAMP:20260422T015818
CREATED:20241127T143134Z
LAST-MODIFIED:20251110T210954Z
UID:10000971-1863993600-1864079999@kaukauna.gov
SUMMARY:Recycle Pick-Up
DESCRIPTION:
URL:https://kaukauna.gov/event/recycle-pick-up/2029-01-25/
CATEGORIES:For Residents
ATTACH;FMTTYPE=image/png:https://kaukauna.gov/wp-content/uploads/2024/11/Recycle-photo-for-website.png
END:VEVENT
BEGIN:VEVENT
DTSTART;VALUE=DATE:20290205
DTEND;VALUE=DATE:20290206
DTSTAMP:20260422T015818
CREATED:20241127T143134Z
LAST-MODIFIED:20251110T210954Z
UID:10000972-1864944000-1865030399@kaukauna.gov
SUMMARY:Recycle Pick-Up
DESCRIPTION:
URL:https://kaukauna.gov/event/recycle-pick-up/2029-02-05/
CATEGORIES:For Residents
ATTACH;FMTTYPE=image/png:https://kaukauna.gov/wp-content/uploads/2024/11/Recycle-photo-for-website.png
END:VEVENT
BEGIN:VEVENT
DTSTART;TZID=America/Chicago:20290205T180000
DTEND;TZID=America/Chicago:20290205T200000
DTSTAMP:20260422T015818
CREATED:20251110T160623Z
LAST-MODIFIED:20251110T160624Z
UID:10001358-1865008800-1865016000@kaukauna.gov
SUMMARY:Committee Meetings
DESCRIPTION:
URL:https://kaukauna.gov/event/committee-meetings-3/2029-02-05/
CATEGORIES:For Residents
ATTACH;FMTTYPE=image/png:https://kaukauna.gov/wp-content/uploads/2024/11/Municipal-Building-Photo-for-Website.png
END:VEVENT
BEGIN:VEVENT
DTSTART;VALUE=DATE:20290206
DTEND;VALUE=DATE:20290207
DTSTAMP:20260422T015818
CREATED:20241127T143134Z
LAST-MODIFIED:20251110T210954Z
UID:10000973-1865030400-1865116799@kaukauna.gov
SUMMARY:Recycle Pick-Up
DESCRIPTION:
URL:https://kaukauna.gov/event/recycle-pick-up/2029-02-06/
CATEGORIES:For Residents
ATTACH;FMTTYPE=image/png:https://kaukauna.gov/wp-content/uploads/2024/11/Recycle-photo-for-website.png
END:VEVENT
BEGIN:VEVENT
DTSTART;TZID=America/Chicago:20290206T190000
DTEND;TZID=America/Chicago:20290206T210000
DTSTAMP:20260422T015818
CREATED:20250630T113428Z
LAST-MODIFIED:20251110T161554Z
UID:10001107-1865098800-1865106000@kaukauna.gov
SUMMARY:Common Council Meeting
DESCRIPTION:
URL:https://kaukauna.gov/event/common-council-meeting-3/2029-02-06/
CATEGORIES:For Residents
ATTACH;FMTTYPE=image/png:https://kaukauna.gov/wp-content/uploads/2024/11/Municipal-Building-Photo-for-Website.png
END:VEVENT
BEGIN:VEVENT
DTSTART;VALUE=DATE:20290207
DTEND;VALUE=DATE:20290208
DTSTAMP:20260422T015818
CREATED:20241127T143134Z
LAST-MODIFIED:20251110T210954Z
UID:10000974-1865116800-1865203199@kaukauna.gov
SUMMARY:Recycle Pick-Up
DESCRIPTION:
URL:https://kaukauna.gov/event/recycle-pick-up/2029-02-07/
CATEGORIES:For Residents
ATTACH;FMTTYPE=image/png:https://kaukauna.gov/wp-content/uploads/2024/11/Recycle-photo-for-website.png
END:VEVENT
BEGIN:VEVENT
DTSTART;VALUE=DATE:20290208
DTEND;VALUE=DATE:20290209
DTSTAMP:20260422T015818
CREATED:20241127T143134Z
LAST-MODIFIED:20251110T210954Z
UID:10000975-1865203200-1865289599@kaukauna.gov
SUMMARY:Recycle Pick-Up
DESCRIPTION:
URL:https://kaukauna.gov/event/recycle-pick-up/2029-02-08/
CATEGORIES:For Residents
ATTACH;FMTTYPE=image/png:https://kaukauna.gov/wp-content/uploads/2024/11/Recycle-photo-for-website.png
END:VEVENT
END:VCALENDAR