BEGIN:VCALENDAR
VERSION:2.0
PRODID:-//City Of Kaukauna - ECPv6.15.20//NONSGML v1.0//EN
CALSCALE:GREGORIAN
METHOD:PUBLISH
X-WR-CALNAME:City Of Kaukauna
X-ORIGINAL-URL:https://kaukauna.gov
X-WR-CALDESC:Events for City Of Kaukauna
REFRESH-INTERVAL;VALUE=DURATION:PT1H
X-Robots-Tag:noindex
X-PUBLISHED-TTL:PT1H
BEGIN:VTIMEZONE
TZID:America/Chicago
BEGIN:DAYLIGHT
TZOFFSETFROM:-0600
TZOFFSETTO:-0500
TZNAME:CDT
DTSTART:20270314T080000
END:DAYLIGHT
BEGIN:STANDARD
TZOFFSETFROM:-0500
TZOFFSETTO:-0600
TZNAME:CST
DTSTART:20271107T070000
END:STANDARD
BEGIN:DAYLIGHT
TZOFFSETFROM:-0600
TZOFFSETTO:-0500
TZNAME:CDT
DTSTART:20280312T080000
END:DAYLIGHT
BEGIN:STANDARD
TZOFFSETFROM:-0500
TZOFFSETTO:-0600
TZNAME:CST
DTSTART:20281105T070000
END:STANDARD
BEGIN:DAYLIGHT
TZOFFSETFROM:-0600
TZOFFSETTO:-0500
TZNAME:CDT
DTSTART:20290311T080000
END:DAYLIGHT
BEGIN:STANDARD
TZOFFSETFROM:-0500
TZOFFSETTO:-0600
TZNAME:CST
DTSTART:20291104T070000
END:STANDARD
END:VTIMEZONE
BEGIN:VEVENT
DTSTART;TZID=America/Chicago:20280905T190000
DTEND;TZID=America/Chicago:20280905T210000
DTSTAMP:20260421T210233
CREATED:20250630T113428Z
LAST-MODIFIED:20251110T161554Z
UID:10001102-1851793200-1851800400@kaukauna.gov
SUMMARY:Common Council Meeting
DESCRIPTION:
URL:https://kaukauna.gov/event/common-council-meeting-3/2028-09-05/
CATEGORIES:For Residents
ATTACH;FMTTYPE=image/png:https://kaukauna.gov/wp-content/uploads/2024/11/Municipal-Building-Photo-for-Website.png
END:VEVENT
BEGIN:VEVENT
DTSTART;VALUE=DATE:20280906
DTEND;VALUE=DATE:20280907
DTSTAMP:20260421T210233
CREATED:20241127T143134Z
LAST-MODIFIED:20251110T210954Z
UID:10000930-1851811200-1851897599@kaukauna.gov
SUMMARY:Recycle Pick-Up
DESCRIPTION:
URL:https://kaukauna.gov/event/recycle-pick-up/2028-09-06/
CATEGORIES:For Residents
ATTACH;FMTTYPE=image/png:https://kaukauna.gov/wp-content/uploads/2024/11/Recycle-photo-for-website.png
END:VEVENT
BEGIN:VEVENT
DTSTART;VALUE=DATE:20280907
DTEND;VALUE=DATE:20280908
DTSTAMP:20260421T210233
CREATED:20241127T143134Z
LAST-MODIFIED:20251110T210954Z
UID:10000931-1851897600-1851983999@kaukauna.gov
SUMMARY:Recycle Pick-Up
DESCRIPTION:
URL:https://kaukauna.gov/event/recycle-pick-up/2028-09-07/
CATEGORIES:For Residents
ATTACH;FMTTYPE=image/png:https://kaukauna.gov/wp-content/uploads/2024/11/Recycle-photo-for-website.png
END:VEVENT
BEGIN:VEVENT
DTSTART;VALUE=DATE:20280918
DTEND;VALUE=DATE:20280919
DTSTAMP:20260421T210233
CREATED:20241127T143134Z
LAST-MODIFIED:20251110T210954Z
UID:10000932-1852848000-1852934399@kaukauna.gov
SUMMARY:Recycle Pick-Up
DESCRIPTION:
URL:https://kaukauna.gov/event/recycle-pick-up/2028-09-18/
CATEGORIES:For Residents
ATTACH;FMTTYPE=image/png:https://kaukauna.gov/wp-content/uploads/2024/11/Recycle-photo-for-website.png
END:VEVENT
BEGIN:VEVENT
DTSTART;TZID=America/Chicago:20280918T180000
DTEND;TZID=America/Chicago:20280918T200000
DTSTAMP:20260421T210233
CREATED:20241203T151815Z
LAST-MODIFIED:20251110T184701Z
UID:10001292-1852912800-1852920000@kaukauna.gov
SUMMARY:Committee Meetings
DESCRIPTION:
URL:https://kaukauna.gov/event/committee-meetings-2/2028-09-18/
CATEGORIES:For Residents
ATTACH;FMTTYPE=image/png:https://kaukauna.gov/wp-content/uploads/2024/11/Municipal-Building-Photo-for-Website.png
END:VEVENT
BEGIN:VEVENT
DTSTART;VALUE=DATE:20280919
DTEND;VALUE=DATE:20280920
DTSTAMP:20260421T210233
CREATED:20241127T143134Z
LAST-MODIFIED:20251110T210954Z
UID:10000933-1852934400-1853020799@kaukauna.gov
SUMMARY:Recycle Pick-Up
DESCRIPTION:
URL:https://kaukauna.gov/event/recycle-pick-up/2028-09-19/
CATEGORIES:For Residents
ATTACH;FMTTYPE=image/png:https://kaukauna.gov/wp-content/uploads/2024/11/Recycle-photo-for-website.png
END:VEVENT
BEGIN:VEVENT
DTSTART;TZID=America/Chicago:20280919T190000
DTEND;TZID=America/Chicago:20280919T210000
DTSTAMP:20260421T210233
CREATED:20241127T150231Z
LAST-MODIFIED:20251110T184806Z
UID:10001161-1853002800-1853010000@kaukauna.gov
SUMMARY:Common Council Meeting
DESCRIPTION:
URL:https://kaukauna.gov/event/common-council-meeting-2/2028-09-19/
CATEGORIES:For Residents
ATTACH;FMTTYPE=image/png:https://kaukauna.gov/wp-content/uploads/2024/11/Municipal-Building-Photo-for-Website.png
END:VEVENT
BEGIN:VEVENT
DTSTART;VALUE=DATE:20280920
DTEND;VALUE=DATE:20280921
DTSTAMP:20260421T210233
CREATED:20241127T143134Z
LAST-MODIFIED:20251110T210954Z
UID:10000934-1853020800-1853107199@kaukauna.gov
SUMMARY:Recycle Pick-Up
DESCRIPTION:
URL:https://kaukauna.gov/event/recycle-pick-up/2028-09-20/
CATEGORIES:For Residents
ATTACH;FMTTYPE=image/png:https://kaukauna.gov/wp-content/uploads/2024/11/Recycle-photo-for-website.png
END:VEVENT
BEGIN:VEVENT
DTSTART;VALUE=DATE:20280921
DTEND;VALUE=DATE:20280922
DTSTAMP:20260421T210233
CREATED:20241127T143134Z
LAST-MODIFIED:20251110T210954Z
UID:10000935-1853107200-1853193599@kaukauna.gov
SUMMARY:Recycle Pick-Up
DESCRIPTION:
URL:https://kaukauna.gov/event/recycle-pick-up/2028-09-21/
CATEGORIES:For Residents
ATTACH;FMTTYPE=image/png:https://kaukauna.gov/wp-content/uploads/2024/11/Recycle-photo-for-website.png
END:VEVENT
BEGIN:VEVENT
DTSTART;VALUE=DATE:20281002
DTEND;VALUE=DATE:20281003
DTSTAMP:20260421T210233
CREATED:20241127T143134Z
LAST-MODIFIED:20251110T210954Z
UID:10000936-1854057600-1854143999@kaukauna.gov
SUMMARY:Recycle Pick-Up
DESCRIPTION:
URL:https://kaukauna.gov/event/recycle-pick-up/2028-10-02/
CATEGORIES:For Residents
ATTACH;FMTTYPE=image/png:https://kaukauna.gov/wp-content/uploads/2024/11/Recycle-photo-for-website.png
END:VEVENT
BEGIN:VEVENT
DTSTART;TZID=America/Chicago:20281002T180000
DTEND;TZID=America/Chicago:20281002T200000
DTSTAMP:20260421T210233
CREATED:20251110T160623Z
LAST-MODIFIED:20251110T160624Z
UID:10001354-1854122400-1854129600@kaukauna.gov
SUMMARY:Committee Meetings
DESCRIPTION:
URL:https://kaukauna.gov/event/committee-meetings-3/2028-10-02/
CATEGORIES:For Residents
ATTACH;FMTTYPE=image/png:https://kaukauna.gov/wp-content/uploads/2024/11/Municipal-Building-Photo-for-Website.png
END:VEVENT
BEGIN:VEVENT
DTSTART;VALUE=DATE:20281003
DTEND;VALUE=DATE:20281004
DTSTAMP:20260421T210233
CREATED:20241127T143134Z
LAST-MODIFIED:20251110T210954Z
UID:10000937-1854144000-1854230399@kaukauna.gov
SUMMARY:Recycle Pick-Up
DESCRIPTION:
URL:https://kaukauna.gov/event/recycle-pick-up/2028-10-03/
CATEGORIES:For Residents
ATTACH;FMTTYPE=image/png:https://kaukauna.gov/wp-content/uploads/2024/11/Recycle-photo-for-website.png
END:VEVENT
BEGIN:VEVENT
DTSTART;TZID=America/Chicago:20281003T190000
DTEND;TZID=America/Chicago:20281003T210000
DTSTAMP:20260421T210233
CREATED:20250630T113428Z
LAST-MODIFIED:20251110T161554Z
UID:10001103-1854212400-1854219600@kaukauna.gov
SUMMARY:Common Council Meeting
DESCRIPTION:
URL:https://kaukauna.gov/event/common-council-meeting-3/2028-10-03/
CATEGORIES:For Residents
ATTACH;FMTTYPE=image/png:https://kaukauna.gov/wp-content/uploads/2024/11/Municipal-Building-Photo-for-Website.png
END:VEVENT
BEGIN:VEVENT
DTSTART;VALUE=DATE:20281004
DTEND;VALUE=DATE:20281005
DTSTAMP:20260421T210233
CREATED:20241127T143134Z
LAST-MODIFIED:20251110T210954Z
UID:10000938-1854230400-1854316799@kaukauna.gov
SUMMARY:Recycle Pick-Up
DESCRIPTION:
URL:https://kaukauna.gov/event/recycle-pick-up/2028-10-04/
CATEGORIES:For Residents
ATTACH;FMTTYPE=image/png:https://kaukauna.gov/wp-content/uploads/2024/11/Recycle-photo-for-website.png
END:VEVENT
BEGIN:VEVENT
DTSTART;VALUE=DATE:20281005
DTEND;VALUE=DATE:20281006
DTSTAMP:20260421T210233
CREATED:20241127T143134Z
LAST-MODIFIED:20251110T210954Z
UID:10000939-1854316800-1854403199@kaukauna.gov
SUMMARY:Recycle Pick-Up
DESCRIPTION:
URL:https://kaukauna.gov/event/recycle-pick-up/2028-10-05/
CATEGORIES:For Residents
ATTACH;FMTTYPE=image/png:https://kaukauna.gov/wp-content/uploads/2024/11/Recycle-photo-for-website.png
END:VEVENT
BEGIN:VEVENT
DTSTART;VALUE=DATE:20281016
DTEND;VALUE=DATE:20281017
DTSTAMP:20260421T210233
CREATED:20241127T143134Z
LAST-MODIFIED:20251110T210954Z
UID:10000940-1855267200-1855353599@kaukauna.gov
SUMMARY:Recycle Pick-Up
DESCRIPTION:
URL:https://kaukauna.gov/event/recycle-pick-up/2028-10-16/
CATEGORIES:For Residents
ATTACH;FMTTYPE=image/png:https://kaukauna.gov/wp-content/uploads/2024/11/Recycle-photo-for-website.png
END:VEVENT
BEGIN:VEVENT
DTSTART;TZID=America/Chicago:20281016T180000
DTEND;TZID=America/Chicago:20281016T200000
DTSTAMP:20260421T210233
CREATED:20241203T151815Z
LAST-MODIFIED:20251110T184701Z
UID:10001293-1855332000-1855339200@kaukauna.gov
SUMMARY:Committee Meetings
DESCRIPTION:
URL:https://kaukauna.gov/event/committee-meetings-2/2028-10-16/
CATEGORIES:For Residents
ATTACH;FMTTYPE=image/png:https://kaukauna.gov/wp-content/uploads/2024/11/Municipal-Building-Photo-for-Website.png
END:VEVENT
BEGIN:VEVENT
DTSTART;VALUE=DATE:20281017
DTEND;VALUE=DATE:20281018
DTSTAMP:20260421T210233
CREATED:20241127T143134Z
LAST-MODIFIED:20251110T210954Z
UID:10000941-1855353600-1855439999@kaukauna.gov
SUMMARY:Recycle Pick-Up
DESCRIPTION:
URL:https://kaukauna.gov/event/recycle-pick-up/2028-10-17/
CATEGORIES:For Residents
ATTACH;FMTTYPE=image/png:https://kaukauna.gov/wp-content/uploads/2024/11/Recycle-photo-for-website.png
END:VEVENT
BEGIN:VEVENT
DTSTART;TZID=America/Chicago:20281017T190000
DTEND;TZID=America/Chicago:20281017T210000
DTSTAMP:20260421T210233
CREATED:20241127T150231Z
LAST-MODIFIED:20251110T184806Z
UID:10001162-1855422000-1855429200@kaukauna.gov
SUMMARY:Common Council Meeting
DESCRIPTION:
URL:https://kaukauna.gov/event/common-council-meeting-2/2028-10-17/
CATEGORIES:For Residents
ATTACH;FMTTYPE=image/png:https://kaukauna.gov/wp-content/uploads/2024/11/Municipal-Building-Photo-for-Website.png
END:VEVENT
BEGIN:VEVENT
DTSTART;VALUE=DATE:20281018
DTEND;VALUE=DATE:20281019
DTSTAMP:20260421T210233
CREATED:20241127T143134Z
LAST-MODIFIED:20251110T210954Z
UID:10000942-1855440000-1855526399@kaukauna.gov
SUMMARY:Recycle Pick-Up
DESCRIPTION:
URL:https://kaukauna.gov/event/recycle-pick-up/2028-10-18/
CATEGORIES:For Residents
ATTACH;FMTTYPE=image/png:https://kaukauna.gov/wp-content/uploads/2024/11/Recycle-photo-for-website.png
END:VEVENT
BEGIN:VEVENT
DTSTART;VALUE=DATE:20281019
DTEND;VALUE=DATE:20281020
DTSTAMP:20260421T210233
CREATED:20241127T143134Z
LAST-MODIFIED:20251110T210954Z
UID:10000943-1855526400-1855612799@kaukauna.gov
SUMMARY:Recycle Pick-Up
DESCRIPTION:
URL:https://kaukauna.gov/event/recycle-pick-up/2028-10-19/
CATEGORIES:For Residents
ATTACH;FMTTYPE=image/png:https://kaukauna.gov/wp-content/uploads/2024/11/Recycle-photo-for-website.png
END:VEVENT
BEGIN:VEVENT
DTSTART;VALUE=DATE:20281030
DTEND;VALUE=DATE:20281031
DTSTAMP:20260421T210233
CREATED:20241127T143134Z
LAST-MODIFIED:20251110T210954Z
UID:10000944-1856476800-1856563199@kaukauna.gov
SUMMARY:Recycle Pick-Up
DESCRIPTION:
URL:https://kaukauna.gov/event/recycle-pick-up/2028-10-30/
CATEGORIES:For Residents
ATTACH;FMTTYPE=image/png:https://kaukauna.gov/wp-content/uploads/2024/11/Recycle-photo-for-website.png
END:VEVENT
BEGIN:VEVENT
DTSTART;VALUE=DATE:20281031
DTEND;VALUE=DATE:20281101
DTSTAMP:20260421T210233
CREATED:20241127T143134Z
LAST-MODIFIED:20251110T210954Z
UID:10000945-1856563200-1856649599@kaukauna.gov
SUMMARY:Recycle Pick-Up
DESCRIPTION:
URL:https://kaukauna.gov/event/recycle-pick-up/2028-10-31/
CATEGORIES:For Residents
ATTACH;FMTTYPE=image/png:https://kaukauna.gov/wp-content/uploads/2024/11/Recycle-photo-for-website.png
END:VEVENT
BEGIN:VEVENT
DTSTART;VALUE=DATE:20281101
DTEND;VALUE=DATE:20281102
DTSTAMP:20260421T210233
CREATED:20241127T143134Z
LAST-MODIFIED:20251110T210954Z
UID:10000946-1856649600-1856735999@kaukauna.gov
SUMMARY:Recycle Pick-Up
DESCRIPTION:
URL:https://kaukauna.gov/event/recycle-pick-up/2028-11-01/
CATEGORIES:For Residents
ATTACH;FMTTYPE=image/png:https://kaukauna.gov/wp-content/uploads/2024/11/Recycle-photo-for-website.png
END:VEVENT
BEGIN:VEVENT
DTSTART;VALUE=DATE:20281102
DTEND;VALUE=DATE:20281103
DTSTAMP:20260421T210233
CREATED:20241127T143134Z
LAST-MODIFIED:20251110T210954Z
UID:10000947-1856736000-1856822399@kaukauna.gov
SUMMARY:Recycle Pick-Up
DESCRIPTION:
URL:https://kaukauna.gov/event/recycle-pick-up/2028-11-02/
CATEGORIES:For Residents
ATTACH;FMTTYPE=image/png:https://kaukauna.gov/wp-content/uploads/2024/11/Recycle-photo-for-website.png
END:VEVENT
BEGIN:VEVENT
DTSTART;TZID=America/Chicago:20281106T180000
DTEND;TZID=America/Chicago:20281106T200000
DTSTAMP:20260421T210233
CREATED:20251110T160623Z
LAST-MODIFIED:20251110T160624Z
UID:10001355-1857146400-1857153600@kaukauna.gov
SUMMARY:Committee Meetings
DESCRIPTION:
URL:https://kaukauna.gov/event/committee-meetings-3/2028-11-06/
CATEGORIES:For Residents
ATTACH;FMTTYPE=image/png:https://kaukauna.gov/wp-content/uploads/2024/11/Municipal-Building-Photo-for-Website.png
END:VEVENT
BEGIN:VEVENT
DTSTART;TZID=America/Chicago:20281107T190000
DTEND;TZID=America/Chicago:20281107T210000
DTSTAMP:20260421T210233
CREATED:20250630T113428Z
LAST-MODIFIED:20251110T161554Z
UID:10001104-1857236400-1857243600@kaukauna.gov
SUMMARY:Common Council Meeting
DESCRIPTION:
URL:https://kaukauna.gov/event/common-council-meeting-3/2028-11-07/
CATEGORIES:For Residents
ATTACH;FMTTYPE=image/png:https://kaukauna.gov/wp-content/uploads/2024/11/Municipal-Building-Photo-for-Website.png
END:VEVENT
BEGIN:VEVENT
DTSTART;VALUE=DATE:20281113
DTEND;VALUE=DATE:20281114
DTSTAMP:20260421T210233
CREATED:20241127T143134Z
LAST-MODIFIED:20251110T210954Z
UID:10000948-1857686400-1857772799@kaukauna.gov
SUMMARY:Recycle Pick-Up
DESCRIPTION:
URL:https://kaukauna.gov/event/recycle-pick-up/2028-11-13/
CATEGORIES:For Residents
ATTACH;FMTTYPE=image/png:https://kaukauna.gov/wp-content/uploads/2024/11/Recycle-photo-for-website.png
END:VEVENT
BEGIN:VEVENT
DTSTART;VALUE=DATE:20281114
DTEND;VALUE=DATE:20281115
DTSTAMP:20260421T210233
CREATED:20241127T143134Z
LAST-MODIFIED:20251110T210954Z
UID:10000949-1857772800-1857859199@kaukauna.gov
SUMMARY:Recycle Pick-Up
DESCRIPTION:
URL:https://kaukauna.gov/event/recycle-pick-up/2028-11-14/
CATEGORIES:For Residents
ATTACH;FMTTYPE=image/png:https://kaukauna.gov/wp-content/uploads/2024/11/Recycle-photo-for-website.png
END:VEVENT
BEGIN:VEVENT
DTSTART;VALUE=DATE:20281115
DTEND;VALUE=DATE:20281116
DTSTAMP:20260421T210233
CREATED:20241127T143134Z
LAST-MODIFIED:20251110T210954Z
UID:10000950-1857859200-1857945599@kaukauna.gov
SUMMARY:Recycle Pick-Up
DESCRIPTION:
URL:https://kaukauna.gov/event/recycle-pick-up/2028-11-15/
CATEGORIES:For Residents
ATTACH;FMTTYPE=image/png:https://kaukauna.gov/wp-content/uploads/2024/11/Recycle-photo-for-website.png
END:VEVENT
END:VCALENDAR