BEGIN:VCALENDAR
VERSION:2.0
PRODID:-//City Of Kaukauna - ECPv6.15.20//NONSGML v1.0//EN
CALSCALE:GREGORIAN
METHOD:PUBLISH
X-WR-CALNAME:City Of Kaukauna
X-ORIGINAL-URL:https://kaukauna.gov
X-WR-CALDESC:Events for City Of Kaukauna
REFRESH-INTERVAL;VALUE=DURATION:PT1H
X-Robots-Tag:noindex
X-PUBLISHED-TTL:PT1H
BEGIN:VTIMEZONE
TZID:America/Chicago
BEGIN:DAYLIGHT
TZOFFSETFROM:-0600
TZOFFSETTO:-0500
TZNAME:CDT
DTSTART:20250309T080000
END:DAYLIGHT
BEGIN:STANDARD
TZOFFSETFROM:-0500
TZOFFSETTO:-0600
TZNAME:CST
DTSTART:20251102T070000
END:STANDARD
BEGIN:DAYLIGHT
TZOFFSETFROM:-0600
TZOFFSETTO:-0500
TZNAME:CDT
DTSTART:20260308T080000
END:DAYLIGHT
BEGIN:STANDARD
TZOFFSETFROM:-0500
TZOFFSETTO:-0600
TZNAME:CST
DTSTART:20261101T070000
END:STANDARD
BEGIN:DAYLIGHT
TZOFFSETFROM:-0600
TZOFFSETTO:-0500
TZNAME:CDT
DTSTART:20270314T080000
END:DAYLIGHT
BEGIN:STANDARD
TZOFFSETFROM:-0500
TZOFFSETTO:-0600
TZNAME:CST
DTSTART:20271107T070000
END:STANDARD
END:VTIMEZONE
BEGIN:VEVENT
DTSTART;VALUE=DATE:20260406
DTEND;VALUE=DATE:20260407
DTSTAMP:20260419T134557
CREATED:20241127T143134Z
LAST-MODIFIED:20251110T210954Z
UID:10000676-1775433600-1775519999@kaukauna.gov
SUMMARY:Recycle Pick-Up
DESCRIPTION:
URL:https://kaukauna.gov/event/recycle-pick-up/2026-04-06/
CATEGORIES:For Residents
ATTACH;FMTTYPE=image/png:https://kaukauna.gov/wp-content/uploads/2024/11/Recycle-photo-for-website.png
END:VEVENT
BEGIN:VEVENT
DTSTART;TZID=America/Chicago:20260404T110000
DTEND;TZID=America/Chicago:20260404T120000
DTSTAMP:20260419T134557
CREATED:20260115T184715Z
LAST-MODIFIED:20260115T191740Z
UID:10002837-1775300400-1775304000@kaukauna.gov
SUMMARY:Survival Series
DESCRIPTION:Learn outdoor skills like fire building\, foraging\, and more with local Scout leaders! Each session will focus on a new survival skill. This program is open to all ages. Children 12 and under must be accompanied by an adult. There are hands-on sessions and may be held outdoors; please plan accordingly. Registration is recommended but not required. Register through the Kaukauna Public Library website. FREE
URL:https://kaukauna.gov/event/survival-series-2/
LOCATION:1000 Islands Environmental Center\, 1000 Beaulieu Court\, Kaukauna\, 54130\, United States
CATEGORIES:Environmental Center,Family Friendly,Free
ATTACH;FMTTYPE=image/png:https://kaukauna.gov/wp-content/uploads/2026/01/Survival-Series-2.png
END:VEVENT
BEGIN:VEVENT
DTSTART;TZID=America/Chicago:20260403T120000
DTEND;TZID=America/Chicago:20260403T140000
DTSTAMP:20260419T134557
CREATED:20251117T195939Z
LAST-MODIFIED:20251117T195939Z
UID:10002708-1775217600-1775224800@kaukauna.gov
SUMMARY:Scrabble Social
DESCRIPTION:Join us for a fun afternoon of casual Scrabble play.  Boards and dictionaries are provided.  Held in the boardroom and attended by an average of 3 people and no registration is required.
URL:https://kaukauna.gov/event/scrabble-social-2/2026-04-03/
LOCATION:Kaukauna Public Library @ 207 Thilmany Road\, Suite 200 Kaukauna
CATEGORIES:Free,Library
ATTACH;FMTTYPE=image/jpeg:https://kaukauna.gov/wp-content/uploads/2025/03/scrabble-social-edit.jpg
END:VEVENT
BEGIN:VEVENT
DTSTART;TZID=America/Chicago:20260403T093000
DTEND;TZID=America/Chicago:20260403T103000
DTSTAMP:20260419T134557
CREATED:20260115T182909Z
LAST-MODIFIED:20260115T182909Z
UID:10002836-1775208600-1775212200@kaukauna.gov
SUMMARY:1000 Little Wonders - Frogs & Toads
DESCRIPTION:This class is for children 3-5 years old and their parent/guardian. Listen to the book Toads by Eileen Ziesler\, explore the outdoors\, and make a themed craft. This program will be indoors and outdoors\, so come dressed for the weather. Pre-registration is required\, and class size is limited. \nTo register\, email thousandisland@kaukauna.gov or call (920) 766-4733. FREE
URL:https://kaukauna.gov/event/1000-little-wonders-frogs-toads/
LOCATION:1000 Islands Environmental Center\, 1000 Beaulieu Court\, Kaukauna\, 54130\, United States
CATEGORIES:Environmental Center,Family Friendly,Free
ATTACH;FMTTYPE=image/png:https://kaukauna.gov/wp-content/uploads/2026/01/Frogs-and-Toads.png
ORGANIZER;CN="1000 Islands Environmental Center":MAILTO:thousandisland@kaukauna.gov
END:VEVENT
BEGIN:VEVENT
DTSTART;TZID=America/Chicago:20260403T090000
DTEND;TZID=America/Chicago:20260403T150000
DTSTAMP:20260419T134557
CREATED:20251117T194441Z
LAST-MODIFIED:20251117T194441Z
UID:10002659-1775206800-1775228400@kaukauna.gov
SUMMARY:Storybook Walk at 1000 Islands
DESCRIPTION:Join along as we venture down the boardwalk and read a story at 1000 Islands Nature Center! Don’t forget to stop for an activity kit to continue the fun at home! Stories are geared towards preschool and early elementary children. This program is open to all ages. Patrons do not need to live in Kaukauna or have a library card to attend. Registration is not required.
URL:https://kaukauna.gov/event/storybook-walk-at-1000-islands-2/2026-04-03/
LOCATION:1000 Islands Environmental Center @ 1000 Beaulieu Court\, Kaukauna\, 1000 Beaulieu Court\, Kaukauna\, Wisconsin\, 54952
CATEGORIES:Environmental Center,Family Friendly,Free,Library,Outdoors
ATTACH;FMTTYPE=image/jpeg:https://kaukauna.gov/wp-content/uploads/2025/03/Storybook-Walk-web.jpg
END:VEVENT
BEGIN:VEVENT
DTSTART;TZID=America/Chicago:20260402T183000
DTEND;TZID=America/Chicago:20260402T193000
DTSTAMP:20260419T134557
CREATED:20251120T171331Z
LAST-MODIFIED:20251120T171331Z
UID:10002801-1775154600-1775158200@kaukauna.gov
SUMMARY:SereniTea
DESCRIPTION:Enjoy a serene hour of relaxing Yoga and Pilates\, with a warm cup of tea.  This Yoga-Pilates class will be taught in various Yoga styles which will help to increase flexibility\, strength\, mobility\, and peaceful wellbeing.  This class includes a short Pilates section to help strengthen the muscles needed for balance throughout the entire body.  The class finishes with an enjoyable relaxation.  The class is for all levels of ability.  Warm tea will be served at the beginning of class and participants can enjoy sips of tea or water during and after class. \nSuggested matrials to bring: A yoga mat or two (if you like added cushion)\, a blanket if you would like for the relaxation segment.  A limited number of yoga mats will be provided if you don’t have one. \nHeld in conference room ABC\, led by library staff Karla.
URL:https://kaukauna.gov/event/serenitea/2026-04-02/
LOCATION:Kaukauna Public Library @ 207 Thilmany Road\, Suite 200 Kaukauna
CATEGORIES:Free,Library
ATTACH;FMTTYPE=image/jpeg:https://kaukauna.gov/wp-content/uploads/2025/11/SereniTeafb.jpg
END:VEVENT
BEGIN:VEVENT
DTSTART;TZID=America/Chicago:20260402T090000
DTEND;TZID=America/Chicago:20260402T100000
DTSTAMP:20260419T134557
CREATED:20251110T185534Z
LAST-MODIFIED:20260227T175627Z
UID:10002357-1775120400-1775124000@kaukauna.gov
SUMMARY:RACK Meeting
DESCRIPTION:
URL:https://kaukauna.gov/event/rack-meeting-2/2026-04-02/
ATTACH;FMTTYPE=image/png:https://kaukauna.gov/wp-content/uploads/2024/11/Municipal-Building-Photo-for-Website.png
END:VEVENT
BEGIN:VEVENT
DTSTART;VALUE=DATE:20260331
DTEND;VALUE=DATE:20260401
DTSTAMP:20260419T134557
CREATED:20251110T195135Z
LAST-MODIFIED:20251110T195135Z
UID:10002444-1774915200-1775001599@kaukauna.gov
SUMMARY:Dog Licenses Due
DESCRIPTION:
URL:https://kaukauna.gov/event/dog-licenses-due-2/
ATTACH;FMTTYPE=image/png:https://kaukauna.gov/wp-content/uploads/2024/11/Municipal-Building-Photo-for-Website.png
END:VEVENT
BEGIN:VEVENT
DTSTART;TZID=America/Chicago:20260329T090000
DTEND;TZID=America/Chicago:20260329T094500
DTSTAMP:20260419T134557
CREATED:20260102T214355Z
LAST-MODIFIED:20260102T214355Z
UID:10002835-1774774800-1774777500@kaukauna.gov
SUMMARY:Grounded and Resilient: Moving Meditation in Nature with Becky McMorrow
DESCRIPTION:This program is a transformative experience that blends ancient practices and modern awareness to cultivate resilience\, calm and embodied presence. Participants will engage in gentle yet powerful movement and standing yoga poses. This program empowers each participant to reconnect with themselves and the living world. Classes will be held on the 2nd Wednesday at 6 pm and the 4th Sunday at 9 am. Classes are held indoors and/or outdoors\, depending on the weather. Pre-Registration is Appreciated. FREE
URL:https://kaukauna.gov/event/grounded-and-resilient-moving-meditation-in-nature-with-becky-mcmorrow-2/
LOCATION:1000 Islands Environmental Center\, 1000 Beaulieu Court\, Kaukauna\, 54130\, United States
CATEGORIES:Environmental Center,Free,Wellness
ATTACH;FMTTYPE=image/png:https://kaukauna.gov/wp-content/uploads/2026/01/Grounded-Resilient.png
ORGANIZER;CN="1000 Islands Environmental Center":MAILTO:thousandisland@kaukauna.gov
END:VEVENT
BEGIN:VEVENT
DTSTART;TZID=America/Chicago:20260327T120000
DTEND;TZID=America/Chicago:20260327T140000
DTSTAMP:20260419T134557
CREATED:20251117T194947Z
LAST-MODIFIED:20251117T194947Z
UID:10002676-1774612800-1774620000@kaukauna.gov
SUMMARY:Sheepshead
DESCRIPTION:Patrons are invited to participate in Wisconsin’s (unofficial) state card game.  Sheepshead is a trick-taking game played with three to five players.  It’s primarily played in only Germany\, where the game originated\, and Wisconsin.  We also have playing cards available.  Held in the boardroom and attended by an average of 5 people and no registration is required.
URL:https://kaukauna.gov/event/sheepshead-2/2026-03-27/
LOCATION:Kaukauna Public Library @ 207 Thilmany Road\, Suite 200 Kaukauna
CATEGORIES:Free,Library
ATTACH;FMTTYPE=image/jpeg:https://kaukauna.gov/wp-content/uploads/2025/03/Sheepshead.jpg
END:VEVENT
BEGIN:VEVENT
DTSTART;TZID=America/Chicago:20260326T080000
DTEND;TZID=America/Chicago:20260326T170000
DTSTAMP:20260419T134557
CREATED:20251117T192533Z
LAST-MODIFIED:20251117T192533Z
UID:10002618-1774512000-1774544400@kaukauna.gov
SUMMARY:Little Learners Storytime
DESCRIPTION:Embark on a hands-on storytime geared for ages 3-5. We will read a story and apply learned skills to various activities! Siblings are welcome. Please see the presenter if you have sensory needs. Patrons do not need a library card or live in Kaukauna to attend storytimes. Registration is not required. Held in conference room ABC.
URL:https://kaukauna.gov/event/little-learners-storytime-3/2026-03-26/
CATEGORIES:Free,Library
ATTACH;FMTTYPE=image/jpeg:https://kaukauna.gov/wp-content/uploads/2025/03/Little-Learners-Storytime.jpg
END:VEVENT
BEGIN:VEVENT
DTSTART;VALUE=DATE:20260326
DTEND;VALUE=DATE:20260327
DTSTAMP:20260419T134557
CREATED:20241127T143134Z
LAST-MODIFIED:20251110T210954Z
UID:10000675-1774483200-1774569599@kaukauna.gov
SUMMARY:Recycle Pick-Up
DESCRIPTION:
URL:https://kaukauna.gov/event/recycle-pick-up/2026-03-26/
CATEGORIES:For Residents
ATTACH;FMTTYPE=image/png:https://kaukauna.gov/wp-content/uploads/2024/11/Recycle-photo-for-website.png
END:VEVENT
BEGIN:VEVENT
DTSTART;TZID=America/Chicago:20260325T180000
DTEND;TZID=America/Chicago:20260325T190000
DTSTAMP:20260419T134557
CREATED:20251120T155952Z
LAST-MODIFIED:20251120T155952Z
UID:10002775-1774461600-1774465200@kaukauna.gov
SUMMARY:Art Club
DESCRIPTION:Get creative at the library with art club! We will explore various materials and techniques during each session with guided and independent art projects. This program is all about self-expression and fun! All materials are provided. This program is best for children ages 6-11. Registration is not required. Patrons do not need to live in Kaukauna or have a library card to attend. Please see the presenter before the program begins for sensory needs.
URL:https://kaukauna.gov/event/art-club/2026-03-25/
LOCATION:Kaukauna Public Library @ 207 Thilmany Road\, Suite 200 Kaukauna
CATEGORIES:Free,Library
ATTACH;FMTTYPE=image/jpeg:https://kaukauna.gov/wp-content/uploads/2025/11/ART-CLUB.jpg
END:VEVENT
BEGIN:VEVENT
DTSTART;TZID=America/Chicago:20260325T100000
DTEND;TZID=America/Chicago:20260325T110000
DTSTAMP:20260419T134557
CREATED:20251117T192333Z
LAST-MODIFIED:20251117T192333Z
UID:10002603-1774432800-1774436400@kaukauna.gov
SUMMARY:Terrific Twos Storytime
DESCRIPTION:This storytime is for toddlers ages 2-3. We will read stories and sing songs followed by playtime. Siblings are welcome. Please see the presenter if you have sensory needs. Patrons do not need to live in Kaukauna or have a library card to attend storytimes. Registration is not required. Held in conference room ABC.
URL:https://kaukauna.gov/event/terrific-twos-storytime-3/2026-03-25/
LOCATION:Kaukauna Public Library @ 207 Thilmany Road\, Suite 200 Kaukauna
CATEGORIES:Free,Library
ATTACH;FMTTYPE=image/jpeg:https://kaukauna.gov/wp-content/uploads/2025/03/terrific-twos.jpg
END:VEVENT
BEGIN:VEVENT
DTSTART;TZID=America/Chicago:20260325T090000
DTEND;TZID=America/Chicago:20260325T100000
DTSTAMP:20260419T134557
CREATED:20251117T192228Z
LAST-MODIFIED:20251117T192228Z
UID:10002577-1774429200-1774432800@kaukauna.gov
SUMMARY:Wonderful Ones Storytime
DESCRIPTION:This storytime is for toddlers ages 1-2. We will read stories and sing songs followed by playtime. Siblings are welcome. Please see the presenter if you have sensory needs. Patrons do not need to live in Kaukauna or have a library card to attend storytimes. Registration is not required. Held in conference room ABC.
URL:https://kaukauna.gov/event/wonderful-ones-storytime-2/2026-03-25/
LOCATION:Kaukauna Public Library @ 207 Thilmany Road\, Suite 200 Kaukauna
CATEGORIES:Free,Library
ATTACH;FMTTYPE=image/jpeg:https://kaukauna.gov/wp-content/uploads/2025/03/wondeful-ones.jpg
END:VEVENT
BEGIN:VEVENT
DTSTART;VALUE=DATE:20260325
DTEND;VALUE=DATE:20260326
DTSTAMP:20260419T134557
CREATED:20241127T143134Z
LAST-MODIFIED:20251110T210954Z
UID:10000674-1774396800-1774483199@kaukauna.gov
SUMMARY:Recycle Pick-Up
DESCRIPTION:
URL:https://kaukauna.gov/event/recycle-pick-up/2026-03-25/
CATEGORIES:For Residents
ATTACH;FMTTYPE=image/png:https://kaukauna.gov/wp-content/uploads/2024/11/Recycle-photo-for-website.png
END:VEVENT
BEGIN:VEVENT
DTSTART;TZID=America/Chicago:20260324T103000
DTEND;TZID=America/Chicago:20260325T113000
DTSTAMP:20260419T134557
CREATED:20251117T192054Z
LAST-MODIFIED:20251117T192054Z
UID:10002551-1774348200-1774438200@kaukauna.gov
SUMMARY:Bright Babies Storytime
DESCRIPTION:This storytime is for infants who are not yet walking. We will read stories and clap rhymes followed by playtime. Siblings are welcome. Please see the presenter if you have sensory needs. Patrons do not need to live in Kaukauna or have a library card to attend storytimes. Registration is not required. Held in conference room ABC.
URL:https://kaukauna.gov/event/bright-babies-storytime-4/2026-03-24/
LOCATION:Kaukauna Public Library @ 207 Thilmany Road\, Suite 200 Kaukauna
CATEGORIES:Free,Library
ATTACH;FMTTYPE=image/jpeg:https://kaukauna.gov/wp-content/uploads/2025/03/bright-babies.jpg
END:VEVENT
BEGIN:VEVENT
DTSTART;VALUE=DATE:20260324
DTEND;VALUE=DATE:20260325
DTSTAMP:20260419T134557
CREATED:20241127T143134Z
LAST-MODIFIED:20251110T210954Z
UID:10000673-1774310400-1774396799@kaukauna.gov
SUMMARY:Recycle Pick-Up
DESCRIPTION:
URL:https://kaukauna.gov/event/recycle-pick-up/2026-03-24/
CATEGORIES:For Residents
ATTACH;FMTTYPE=image/png:https://kaukauna.gov/wp-content/uploads/2024/11/Recycle-photo-for-website.png
END:VEVENT
BEGIN:VEVENT
DTSTART;TZID=America/Chicago:20260323T183000
DTEND;TZID=America/Chicago:20260323T193000
DTSTAMP:20260419T134557
CREATED:20251120T173820Z
LAST-MODIFIED:20251120T173820Z
UID:10002812-1774290600-1774294200@kaukauna.gov
SUMMARY:KPL Write Club
DESCRIPTION:Join us for critiquing and writing sessions as a group! Group facilitated by library staff member Owen with input by local author of many books\, Gavin. Held in conference room ABC. Average attendance of 8 people and no registration is required.
URL:https://kaukauna.gov/event/kpl-write-club/2026-03-23/
LOCATION:Kaukauna Public Library @ 207 Thilmany Road\, Suite 200 Kaukauna
CATEGORIES:Free,Library
ATTACH;FMTTYPE=image/jpeg:https://kaukauna.gov/wp-content/uploads/2025/11/WriteClub_event.jpg
END:VEVENT
BEGIN:VEVENT
DTSTART;TZID=America/Chicago:20260323T090000
DTEND;TZID=America/Chicago:20260323T100000
DTSTAMP:20260419T134557
CREATED:20251117T191202Z
LAST-MODIFIED:20251117T191202Z
UID:10002525-1774256400-1774260000@kaukauna.gov
SUMMARY:Perfect Preschoolers Storytime
DESCRIPTION:This storytime is for ages 3-5. We will read stories\, sing songs\, craft\, and play! Siblings are welcome. Please see the presenter if you have sensory needs. Patrons do not need to live in Kaukauna or have a library card to attend storytimes. Registration is not required. Held in conference room ABC
URL:https://kaukauna.gov/event/perfect-preschoolers-storytime-4/2026-03-23/
LOCATION:Kaukauna Public Library @ 207 Thilmany Road\, Suite 200 Kaukauna
CATEGORIES:Free,Library
ATTACH;FMTTYPE=image/jpeg:https://kaukauna.gov/wp-content/uploads/2025/03/perfect-preschool.jpg
END:VEVENT
BEGIN:VEVENT
DTSTART;VALUE=DATE:20260323
DTEND;VALUE=DATE:20260324
DTSTAMP:20260419T134557
CREATED:20241127T143134Z
LAST-MODIFIED:20251110T210954Z
UID:10000672-1774224000-1774310399@kaukauna.gov
SUMMARY:Recycle Pick-Up
DESCRIPTION:
URL:https://kaukauna.gov/event/recycle-pick-up/2026-03-23/
CATEGORIES:For Residents
ATTACH;FMTTYPE=image/png:https://kaukauna.gov/wp-content/uploads/2024/11/Recycle-photo-for-website.png
END:VEVENT
BEGIN:VEVENT
DTSTART;TZID=America/Chicago:20260321T090000
DTEND;TZID=America/Chicago:20260321T120000
DTSTAMP:20260419T134557
CREATED:20251110T195049Z
LAST-MODIFIED:20260102T201630Z
UID:10002443-1774083600-1774094400@kaukauna.gov
SUMMARY:Pancake & Porkie Breakfast
DESCRIPTION:
URL:https://kaukauna.gov/event/pancake-porkie-breakfast/
LOCATION:1000 Islands Environmental Center\, 1000 Beaulieu Court\, Kaukauna\, 54130\, United States
CATEGORIES:Environmental Center,Family Friendly,Food & Drink,For Residents
ATTACH;FMTTYPE=image/png:https://kaukauna.gov/wp-content/uploads/2026/01/Lip-Balm-Take-and-Make-8.5-x-11-in.png
END:VEVENT
BEGIN:VEVENT
DTSTART;TZID=America/Chicago:20260320T133000
DTEND;TZID=America/Chicago:20260320T143000
DTSTAMP:20260419T134557
CREATED:20251119T202703Z
LAST-MODIFIED:20251119T202703Z
UID:10002761-1774013400-1774017000@kaukauna.gov
SUMMARY:Homeschool Heroes Hangout
DESCRIPTION:This class is for students ages 5+. Each session will offer a new activity. Siblings are welcome. Parents will be expected to engage with their children and the activities\, and will be expected to help with younger siblings if needed. Please see the presenter if you have sensory needs. Patrons do not need a library card or live in Kaukauna to attend this program. Registration is not required.
URL:https://kaukauna.gov/event/homeschool-heroes-hangout/2026-03-20/
LOCATION:Kaukauna Public Library @ 207 Thilmany Road\, Suite 200 Kaukauna
CATEGORIES:Free,Library
ATTACH;FMTTYPE=image/jpeg:https://kaukauna.gov/wp-content/uploads/2025/11/Homeschool-Hangout.jpg
END:VEVENT
BEGIN:VEVENT
DTSTART;TZID=America/Chicago:20260320T120000
DTEND;TZID=America/Chicago:20260320T140000
DTSTAMP:20260419T134557
CREATED:20251117T195939Z
LAST-MODIFIED:20251117T195939Z
UID:10002707-1774008000-1774015200@kaukauna.gov
SUMMARY:Scrabble Social
DESCRIPTION:Join us for a fun afternoon of casual Scrabble play.  Boards and dictionaries are provided.  Held in the boardroom and attended by an average of 3 people and no registration is required.
URL:https://kaukauna.gov/event/scrabble-social-2/2026-03-20/
LOCATION:Kaukauna Public Library @ 207 Thilmany Road\, Suite 200 Kaukauna
CATEGORIES:Free,Library
ATTACH;FMTTYPE=image/jpeg:https://kaukauna.gov/wp-content/uploads/2025/03/scrabble-social-edit.jpg
END:VEVENT
BEGIN:VEVENT
DTSTART;TZID=America/Chicago:20260319T183000
DTEND;TZID=America/Chicago:20260319T193000
DTSTAMP:20260419T134557
CREATED:20251120T171331Z
LAST-MODIFIED:20251120T171331Z
UID:10002800-1773945000-1773948600@kaukauna.gov
SUMMARY:SereniTea
DESCRIPTION:Enjoy a serene hour of relaxing Yoga and Pilates\, with a warm cup of tea.  This Yoga-Pilates class will be taught in various Yoga styles which will help to increase flexibility\, strength\, mobility\, and peaceful wellbeing.  This class includes a short Pilates section to help strengthen the muscles needed for balance throughout the entire body.  The class finishes with an enjoyable relaxation.  The class is for all levels of ability.  Warm tea will be served at the beginning of class and participants can enjoy sips of tea or water during and after class. \nSuggested matrials to bring: A yoga mat or two (if you like added cushion)\, a blanket if you would like for the relaxation segment.  A limited number of yoga mats will be provided if you don’t have one. \nHeld in conference room ABC\, led by library staff Karla.
URL:https://kaukauna.gov/event/serenitea/2026-03-19/
LOCATION:Kaukauna Public Library @ 207 Thilmany Road\, Suite 200 Kaukauna
CATEGORIES:Free,Library
ATTACH;FMTTYPE=image/jpeg:https://kaukauna.gov/wp-content/uploads/2025/11/SereniTeafb.jpg
END:VEVENT
BEGIN:VEVENT
DTSTART;TZID=America/Chicago:20260319T183000
DTEND;TZID=America/Chicago:20260319T193000
DTSTAMP:20260419T134557
CREATED:20251118T173559Z
LAST-MODIFIED:20251118T174739Z
UID:10002721-1773945000-1773948600@kaukauna.gov
SUMMARY:1000 Islands Committee Meeting
DESCRIPTION:
URL:https://kaukauna.gov/event/1000-islands-committee-meeting-10/2026-03-19/
LOCATION:1000 Islands Environmental Center\, 1000 Beaulieu Court\, Kaukauna\, 54130\, United States
CATEGORIES:Environmental Center
ATTACH;FMTTYPE=image/png:https://kaukauna.gov/wp-content/uploads/2025/11/1000-Islands-Committee-Meeting.png
ORGANIZER;CN="1000 Islands Environmental Center":MAILTO:thousandisland@kaukauna.gov
END:VEVENT
BEGIN:VEVENT
DTSTART;TZID=America/Chicago:20260319T160000
DTEND;TZID=America/Chicago:20260319T170000
DTSTAMP:20260419T134557
CREATED:20251110T190235Z
LAST-MODIFIED:20260227T172656Z
UID:10002371-1773936000-1773939600@kaukauna.gov
SUMMARY:Plan Commission Meeting
DESCRIPTION:
URL:https://kaukauna.gov/event/plan-commission-meeting/2026-03-19/
ATTACH;FMTTYPE=image/png:https://kaukauna.gov/wp-content/uploads/2024/11/Municipal-Building-Photo-for-Website.png
END:VEVENT
BEGIN:VEVENT
DTSTART;TZID=America/Chicago:20260319T090000
DTEND;TZID=America/Chicago:20260319T100000
DTSTAMP:20260419T134557
CREATED:20251117T211621Z
LAST-MODIFIED:20251117T211621Z
UID:10002716-1773910800-1773914400@kaukauna.gov
SUMMARY:Creative Kids Storytime
DESCRIPTION:Creativity abounds during this creative thinking-based storytime\, best for ages 3-5. Art concepts and music skills are introduced using a variety of media and tied together with stories and songs. Siblings are welcome. Please see the presenter if you have sensory needs. Patrons do not need to live in Kaukauna or have a library card to attend storytimes. Registration is not required. Held in conference room ABC.
URL:https://kaukauna.gov/event/creative-kids-storytime/2026-03-19/
LOCATION:Kaukauna Public Library @ 207 Thilmany Road\, Suite 200 Kaukauna
CATEGORIES:Free,Library
ATTACH;FMTTYPE=image/jpeg:https://kaukauna.gov/wp-content/uploads/2025/11/Creative-Kids-Storytime.jpg
END:VEVENT
BEGIN:VEVENT
DTSTART;TZID=America/Chicago:20260318T180000
DTEND;TZID=America/Chicago:20260318T190000
DTSTAMP:20260419T134557
CREATED:20251120T155610Z
LAST-MODIFIED:20251120T155610Z
UID:10002771-1773856800-1773860400@kaukauna.gov
SUMMARY:Lego Club
DESCRIPTION:Calling all elementary Lego fans! Each session will feature a mix of collaboration builds\, where participants will work as a team\, and free builds to let your imaginations take the lead! We will meet in the conference room. Creations will be displayed in the library. All materials are provided. This program is best for children ages 6-11. Registration is not required. Patrons do not need to live in Kaukauna or have a library card to attend. Please see the presenter before the program begins for sensory needs.
URL:https://kaukauna.gov/event/lego-club/2026-03-18/
LOCATION:Kaukauna Public Library @ 207 Thilmany Road\, Suite 200 Kaukauna
CATEGORIES:Free,Library
ATTACH;FMTTYPE=image/jpeg:https://kaukauna.gov/wp-content/uploads/2025/11/lego-club.jpg
END:VEVENT
BEGIN:VEVENT
DTSTART;TZID=America/Chicago:20260318T100000
DTEND;TZID=America/Chicago:20260318T110000
DTSTAMP:20260419T134557
CREATED:20251117T192333Z
LAST-MODIFIED:20251117T192333Z
UID:10002602-1773828000-1773831600@kaukauna.gov
SUMMARY:Terrific Twos Storytime
DESCRIPTION:This storytime is for toddlers ages 2-3. We will read stories and sing songs followed by playtime. Siblings are welcome. Please see the presenter if you have sensory needs. Patrons do not need to live in Kaukauna or have a library card to attend storytimes. Registration is not required. Held in conference room ABC.
URL:https://kaukauna.gov/event/terrific-twos-storytime-3/2026-03-18/
LOCATION:Kaukauna Public Library @ 207 Thilmany Road\, Suite 200 Kaukauna
CATEGORIES:Free,Library
ATTACH;FMTTYPE=image/jpeg:https://kaukauna.gov/wp-content/uploads/2025/03/terrific-twos.jpg
END:VEVENT
END:VCALENDAR