BEGIN:VCALENDAR
VERSION:2.0
PRODID:-//City Of Kaukauna - ECPv6.15.20//NONSGML v1.0//EN
CALSCALE:GREGORIAN
METHOD:PUBLISH
X-ORIGINAL-URL:https://kaukauna.gov
X-WR-CALDESC:Events for City Of Kaukauna
REFRESH-INTERVAL;VALUE=DURATION:PT1H
X-Robots-Tag:noindex
X-PUBLISHED-TTL:PT1H
BEGIN:VTIMEZONE
TZID:America/Chicago
BEGIN:DAYLIGHT
TZOFFSETFROM:-0600
TZOFFSETTO:-0500
TZNAME:CDT
DTSTART:20250309T080000
END:DAYLIGHT
BEGIN:STANDARD
TZOFFSETFROM:-0500
TZOFFSETTO:-0600
TZNAME:CST
DTSTART:20251102T070000
END:STANDARD
BEGIN:DAYLIGHT
TZOFFSETFROM:-0600
TZOFFSETTO:-0500
TZNAME:CDT
DTSTART:20260308T080000
END:DAYLIGHT
BEGIN:STANDARD
TZOFFSETFROM:-0500
TZOFFSETTO:-0600
TZNAME:CST
DTSTART:20261101T070000
END:STANDARD
BEGIN:DAYLIGHT
TZOFFSETFROM:-0600
TZOFFSETTO:-0500
TZNAME:CDT
DTSTART:20270314T080000
END:DAYLIGHT
BEGIN:STANDARD
TZOFFSETFROM:-0500
TZOFFSETTO:-0600
TZNAME:CST
DTSTART:20271107T070000
END:STANDARD
END:VTIMEZONE
BEGIN:VEVENT
DTSTART;VALUE=DATE:20261104
DTEND;VALUE=DATE:20261105
DTSTAMP:20260420T065608
CREATED:20241127T143134Z
LAST-MODIFIED:20251110T210954Z
UID:10000738-1793750400-1793836799@kaukauna.gov
SUMMARY:Recycle Pick-Up
DESCRIPTION:
URL:https://kaukauna.gov/event/recycle-pick-up/2026-11-04/
CATEGORIES:For Residents
ATTACH;FMTTYPE=image/png:https://kaukauna.gov/wp-content/uploads/2024/11/Recycle-photo-for-website.png
END:VEVENT
BEGIN:VEVENT
DTSTART;TZID=America/Chicago:20261104T180000
DTEND;TZID=America/Chicago:20261104T200000
DTSTAMP:20260420T065608
CREATED:20251110T161121Z
LAST-MODIFIED:20251110T184934Z
UID:10002198-1793815200-1793822400@kaukauna.gov
SUMMARY:Committee & Council Meetings
DESCRIPTION:
URL:https://kaukauna.gov/event/committee-council-meetings-2/2026-11-04/
ATTACH;FMTTYPE=image/png:https://kaukauna.gov/wp-content/uploads/2024/11/Municipal-Building-Photo-for-Website.png
END:VEVENT
BEGIN:VEVENT
DTSTART;VALUE=DATE:20261105
DTEND;VALUE=DATE:20261106
DTSTAMP:20260420T065608
CREATED:20241127T143134Z
LAST-MODIFIED:20251110T210954Z
UID:10000739-1793836800-1793923199@kaukauna.gov
SUMMARY:Recycle Pick-Up
DESCRIPTION:
URL:https://kaukauna.gov/event/recycle-pick-up/2026-11-05/
CATEGORIES:For Residents
ATTACH;FMTTYPE=image/png:https://kaukauna.gov/wp-content/uploads/2024/11/Recycle-photo-for-website.png
END:VEVENT
BEGIN:VEVENT
DTSTART;TZID=America/Chicago:20261105T090000
DTEND;TZID=America/Chicago:20261105T100000
DTSTAMP:20260420T065608
CREATED:20251110T185534Z
LAST-MODIFIED:20260227T175627Z
UID:10002364-1793869200-1793872800@kaukauna.gov
SUMMARY:RACK Meeting
DESCRIPTION:
URL:https://kaukauna.gov/event/rack-meeting-2/2026-11-05/
ATTACH;FMTTYPE=image/png:https://kaukauna.gov/wp-content/uploads/2024/11/Municipal-Building-Photo-for-Website.png
END:VEVENT
BEGIN:VEVENT
DTSTART;VALUE=DATE:20261109
DTEND;VALUE=DATE:20261113
DTSTAMP:20260420T065608
CREATED:20251110T194203Z
LAST-MODIFIED:20251110T194203Z
UID:10002438-1794182400-1794527999@kaukauna.gov
SUMMARY:Leaf Collection
DESCRIPTION:
URL:https://kaukauna.gov/event/leaf-collection-10/
ATTACH;FMTTYPE=image/png:https://kaukauna.gov/wp-content/uploads/2025/11/Copy-of-Leaf-Collection-Reminder-2025.png
END:VEVENT
BEGIN:VEVENT
DTSTART;VALUE=DATE:20261116
DTEND;VALUE=DATE:20261117
DTSTAMP:20260420T065608
CREATED:20241127T143134Z
LAST-MODIFIED:20251110T210954Z
UID:10000740-1794787200-1794873599@kaukauna.gov
SUMMARY:Recycle Pick-Up
DESCRIPTION:
URL:https://kaukauna.gov/event/recycle-pick-up/2026-11-16/
CATEGORIES:For Residents
ATTACH;FMTTYPE=image/png:https://kaukauna.gov/wp-content/uploads/2024/11/Recycle-photo-for-website.png
END:VEVENT
BEGIN:VEVENT
DTSTART;VALUE=DATE:20261116
DTEND;VALUE=DATE:20261120
DTSTAMP:20260420T065608
CREATED:20251110T194233Z
LAST-MODIFIED:20251110T194233Z
UID:10002439-1794787200-1795132799@kaukauna.gov
SUMMARY:Leaf Collection
DESCRIPTION:
URL:https://kaukauna.gov/event/leaf-collection-11/
ATTACH;FMTTYPE=image/png:https://kaukauna.gov/wp-content/uploads/2025/11/Copy-of-Leaf-Collection-Reminder-2025.png
END:VEVENT
BEGIN:VEVENT
DTSTART;TZID=America/Chicago:20261116T180000
DTEND;TZID=America/Chicago:20261116T200000
DTSTAMP:20260420T065608
CREATED:20241203T151815Z
LAST-MODIFIED:20251110T184701Z
UID:10001270-1794852000-1794859200@kaukauna.gov
SUMMARY:Committee Meetings
DESCRIPTION:
URL:https://kaukauna.gov/event/committee-meetings-2/2026-11-16/
CATEGORIES:For Residents
ATTACH;FMTTYPE=image/png:https://kaukauna.gov/wp-content/uploads/2024/11/Municipal-Building-Photo-for-Website.png
END:VEVENT
BEGIN:VEVENT
DTSTART;TZID=America/Chicago:20261116T183000
DTEND;TZID=America/Chicago:20261116T193000
DTSTAMP:20260420T065608
CREATED:20251118T180048Z
LAST-MODIFIED:20251118T180818Z
UID:10002740-1794853800-1794857400@kaukauna.gov
SUMMARY:Friends of 1000 Islands Meeting
DESCRIPTION:Friends of 1000 Islands is group that wants to keep the 1000 Islands Environmental Center thriving for everyone to enjoy. Together\, we work on fun projects\, host events\, and volunteer to make a difference. Our nonprofit relies on the energy and ideas of our Friends community to support the Center through fundraising and hands-on help. Curious about joining us? Come to our monthly meeting on the third Monday of each month in the Conservation Room at the Nature Center. We’d love to welcome you!
URL:https://kaukauna.gov/event/friends-of-1000-islands-meeting/2026-11-16/
LOCATION:1000 Islands Environmental Center\, 1000 Beaulieu Court\, Kaukauna\, 54130\, United States
CATEGORIES:Environmental Center
ATTACH;FMTTYPE=image/png:https://kaukauna.gov/wp-content/uploads/2025/11/Friends-of-1000-Islands-Meeting.png
ORGANIZER;CN="1000 Islands Environmental Center":MAILTO:thousandisland@kaukauna.gov
END:VEVENT
BEGIN:VEVENT
DTSTART;VALUE=DATE:20261117
DTEND;VALUE=DATE:20261118
DTSTAMP:20260420T065608
CREATED:20241127T143134Z
LAST-MODIFIED:20251110T210954Z
UID:10000741-1794873600-1794959999@kaukauna.gov
SUMMARY:Recycle Pick-Up
DESCRIPTION:
URL:https://kaukauna.gov/event/recycle-pick-up/2026-11-17/
CATEGORIES:For Residents
ATTACH;FMTTYPE=image/png:https://kaukauna.gov/wp-content/uploads/2024/11/Recycle-photo-for-website.png
END:VEVENT
BEGIN:VEVENT
DTSTART;TZID=America/Chicago:20261117T190000
DTEND;TZID=America/Chicago:20261117T210000
DTSTAMP:20260420T065608
CREATED:20241127T150231Z
LAST-MODIFIED:20251110T184806Z
UID:10001139-1794942000-1794949200@kaukauna.gov
SUMMARY:Common Council Meeting
DESCRIPTION:
URL:https://kaukauna.gov/event/common-council-meeting-2/2026-11-17/
CATEGORIES:For Residents
ATTACH;FMTTYPE=image/png:https://kaukauna.gov/wp-content/uploads/2024/11/Municipal-Building-Photo-for-Website.png
END:VEVENT
BEGIN:VEVENT
DTSTART;VALUE=DATE:20261118
DTEND;VALUE=DATE:20261119
DTSTAMP:20260420T065608
CREATED:20241127T143134Z
LAST-MODIFIED:20251110T210954Z
UID:10000742-1794960000-1795046399@kaukauna.gov
SUMMARY:Recycle Pick-Up
DESCRIPTION:
URL:https://kaukauna.gov/event/recycle-pick-up/2026-11-18/
CATEGORIES:For Residents
ATTACH;FMTTYPE=image/png:https://kaukauna.gov/wp-content/uploads/2024/11/Recycle-photo-for-website.png
END:VEVENT
BEGIN:VEVENT
DTSTART;VALUE=DATE:20261119
DTEND;VALUE=DATE:20261120
DTSTAMP:20260420T065608
CREATED:20241127T143134Z
LAST-MODIFIED:20251110T210954Z
UID:10000743-1795046400-1795132799@kaukauna.gov
SUMMARY:Recycle Pick-Up
DESCRIPTION:
URL:https://kaukauna.gov/event/recycle-pick-up/2026-11-19/
CATEGORIES:For Residents
ATTACH;FMTTYPE=image/png:https://kaukauna.gov/wp-content/uploads/2024/11/Recycle-photo-for-website.png
END:VEVENT
BEGIN:VEVENT
DTSTART;TZID=America/Chicago:20261119T183000
DTEND;TZID=America/Chicago:20261119T193000
DTSTAMP:20260420T065608
CREATED:20251118T173559Z
LAST-MODIFIED:20251118T174739Z
UID:10002729-1795113000-1795116600@kaukauna.gov
SUMMARY:1000 Islands Committee Meeting
DESCRIPTION:
URL:https://kaukauna.gov/event/1000-islands-committee-meeting-10/2026-11-19/
LOCATION:1000 Islands Environmental Center\, 1000 Beaulieu Court\, Kaukauna\, 54130\, United States
CATEGORIES:Environmental Center
ATTACH;FMTTYPE=image/png:https://kaukauna.gov/wp-content/uploads/2025/11/1000-Islands-Committee-Meeting.png
ORGANIZER;CN="1000 Islands Environmental Center":MAILTO:thousandisland@kaukauna.gov
END:VEVENT
BEGIN:VEVENT
DTSTART;VALUE=DATE:20261125
DTEND;VALUE=DATE:20261126
DTSTAMP:20260420T065608
CREATED:20251110T194432Z
LAST-MODIFIED:20251110T194432Z
UID:10002440-1795564800-1795651199@kaukauna.gov
SUMMARY:Wednesday & Thursday Garbage Pick-Up
DESCRIPTION:
URL:https://kaukauna.gov/event/wednesday-thursday-garbage-pick-up-2/2026-11-25/
ATTACH;FMTTYPE=image/png:https://kaukauna.gov/wp-content/uploads/2024/12/Garbage-photo-for-website.png
END:VEVENT
BEGIN:VEVENT
DTSTART;VALUE=DATE:20261126
DTEND;VALUE=DATE:20261127
DTSTAMP:20260420T065608
CREATED:20251110T184418Z
LAST-MODIFIED:20251110T184418Z
UID:10002349-1795680000-1795710600@kaukauna.gov
SUMMARY:All Municipal Buildings Closed
DESCRIPTION:
URL:https://kaukauna.gov/event/all-municipal-buildings-closed-2/2026-11-26/
ATTACH;FMTTYPE=image/jpeg:https://kaukauna.gov/wp-content/uploads/2024/11/DJI_0101_2_3.jpg
END:VEVENT
BEGIN:VEVENT
DTSTART;VALUE=DATE:20261127
DTEND;VALUE=DATE:20261128
DTSTAMP:20260420T065608
CREATED:20251110T184418Z
LAST-MODIFIED:20251110T184418Z
UID:10002350-1795766400-1795797000@kaukauna.gov
SUMMARY:All Municipal Buildings Closed
DESCRIPTION:
URL:https://kaukauna.gov/event/all-municipal-buildings-closed-2/2026-11-27/
ATTACH;FMTTYPE=image/jpeg:https://kaukauna.gov/wp-content/uploads/2024/11/DJI_0101_2_3.jpg
END:VEVENT
BEGIN:VEVENT
DTSTART;VALUE=DATE:20261130
DTEND;VALUE=DATE:20261201
DTSTAMP:20260420T065608
CREATED:20241127T143134Z
LAST-MODIFIED:20251110T210954Z
UID:10000744-1795996800-1796083199@kaukauna.gov
SUMMARY:Recycle Pick-Up
DESCRIPTION:
URL:https://kaukauna.gov/event/recycle-pick-up/2026-11-30/
CATEGORIES:For Residents
ATTACH;FMTTYPE=image/png:https://kaukauna.gov/wp-content/uploads/2024/11/Recycle-photo-for-website.png
END:VEVENT
BEGIN:VEVENT
DTSTART;TZID=America/Chicago:20261130T180000
DTEND;TZID=America/Chicago:20261130T200000
DTSTAMP:20260420T065608
CREATED:20251110T160623Z
LAST-MODIFIED:20251110T160624Z
UID:10002187-1796061600-1796068800@kaukauna.gov
SUMMARY:Committee Meetings
DESCRIPTION:
URL:https://kaukauna.gov/event/committee-meetings-3/2026-11-30/
CATEGORIES:For Residents
ATTACH;FMTTYPE=image/png:https://kaukauna.gov/wp-content/uploads/2024/11/Municipal-Building-Photo-for-Website.png
END:VEVENT
BEGIN:VEVENT
DTSTART;VALUE=DATE:20261201
DTEND;VALUE=DATE:20261202
DTSTAMP:20260420T065608
CREATED:20241127T143134Z
LAST-MODIFIED:20251110T210954Z
UID:10000745-1796083200-1796169599@kaukauna.gov
SUMMARY:Recycle Pick-Up
DESCRIPTION:
URL:https://kaukauna.gov/event/recycle-pick-up/2026-12-01/
CATEGORIES:For Residents
ATTACH;FMTTYPE=image/png:https://kaukauna.gov/wp-content/uploads/2024/11/Recycle-photo-for-website.png
END:VEVENT
BEGIN:VEVENT
DTSTART;TZID=America/Chicago:20261201T180000
DTEND;TZID=America/Chicago:20261201T200000
DTSTAMP:20260420T065608
CREATED:20251110T201404Z
LAST-MODIFIED:20251110T201404Z
UID:10002457-1796148000-1796155200@kaukauna.gov
SUMMARY:Electric City Christmas Parade
DESCRIPTION:
URL:https://kaukauna.gov/event/electric-city-christmas-parade-3/
ATTACH;FMTTYPE=image/jpeg:https://kaukauna.gov/wp-content/uploads/2024/11/DJI_0101_2_3.jpg
END:VEVENT
BEGIN:VEVENT
DTSTART;TZID=America/Chicago:20261201T190000
DTEND;TZID=America/Chicago:20261201T210000
DTSTAMP:20260420T065608
CREATED:20250630T113428Z
LAST-MODIFIED:20251110T161554Z
UID:10001081-1796151600-1796158800@kaukauna.gov
SUMMARY:Common Council Meeting
DESCRIPTION:
URL:https://kaukauna.gov/event/common-council-meeting-3/2026-12-01/
CATEGORIES:For Residents
ATTACH;FMTTYPE=image/png:https://kaukauna.gov/wp-content/uploads/2024/11/Municipal-Building-Photo-for-Website.png
END:VEVENT
BEGIN:VEVENT
DTSTART;VALUE=DATE:20261202
DTEND;VALUE=DATE:20261203
DTSTAMP:20260420T065608
CREATED:20241127T143134Z
LAST-MODIFIED:20251110T210954Z
UID:10000746-1796169600-1796255999@kaukauna.gov
SUMMARY:Recycle Pick-Up
DESCRIPTION:
URL:https://kaukauna.gov/event/recycle-pick-up/2026-12-02/
CATEGORIES:For Residents
ATTACH;FMTTYPE=image/png:https://kaukauna.gov/wp-content/uploads/2024/11/Recycle-photo-for-website.png
END:VEVENT
BEGIN:VEVENT
DTSTART;VALUE=DATE:20261203
DTEND;VALUE=DATE:20261204
DTSTAMP:20260420T065608
CREATED:20241127T143134Z
LAST-MODIFIED:20251110T210954Z
UID:10000747-1796256000-1796342399@kaukauna.gov
SUMMARY:Recycle Pick-Up
DESCRIPTION:
URL:https://kaukauna.gov/event/recycle-pick-up/2026-12-03/
CATEGORIES:For Residents
ATTACH;FMTTYPE=image/png:https://kaukauna.gov/wp-content/uploads/2024/11/Recycle-photo-for-website.png
END:VEVENT
BEGIN:VEVENT
DTSTART;TZID=America/Chicago:20261203T090000
DTEND;TZID=America/Chicago:20261203T100000
DTSTAMP:20260420T065608
CREATED:20251110T185534Z
LAST-MODIFIED:20260227T175627Z
UID:10002365-1796288400-1796292000@kaukauna.gov
SUMMARY:RACK Meeting
DESCRIPTION:
URL:https://kaukauna.gov/event/rack-meeting-2/2026-12-03/
ATTACH;FMTTYPE=image/png:https://kaukauna.gov/wp-content/uploads/2024/11/Municipal-Building-Photo-for-Website.png
END:VEVENT
BEGIN:VEVENT
DTSTART;VALUE=DATE:20261207
DTEND;VALUE=DATE:20261208
DTSTAMP:20260420T065608
CREATED:20251110T201215Z
LAST-MODIFIED:20251110T201215Z
UID:10002456-1796601600-1796687999@kaukauna.gov
SUMMARY:Library of Lights Opens
DESCRIPTION:
URL:https://kaukauna.gov/event/library-of-lights-opens/
LOCATION:Kaukauna Public Library @ 207 Thilmany Road\, Suite 200 Kaukauna
ATTACH;FMTTYPE=image/jpeg:https://kaukauna.gov/wp-content/uploads/2024/11/June-Kaukauna-Public-Library.jpg
END:VEVENT
BEGIN:VEVENT
DTSTART;VALUE=DATE:20261214
DTEND;VALUE=DATE:20261215
DTSTAMP:20260420T065608
CREATED:20241127T143134Z
LAST-MODIFIED:20251110T210954Z
UID:10000748-1797206400-1797292799@kaukauna.gov
SUMMARY:Recycle Pick-Up
DESCRIPTION:
URL:https://kaukauna.gov/event/recycle-pick-up/2026-12-14/
CATEGORIES:For Residents
ATTACH;FMTTYPE=image/png:https://kaukauna.gov/wp-content/uploads/2024/11/Recycle-photo-for-website.png
END:VEVENT
BEGIN:VEVENT
DTSTART;TZID=America/Chicago:20261214T180000
DTEND;TZID=America/Chicago:20261214T200000
DTSTAMP:20260420T065608
CREATED:20251110T160623Z
LAST-MODIFIED:20251110T160624Z
UID:10002188-1797271200-1797278400@kaukauna.gov
SUMMARY:Committee Meetings
DESCRIPTION:
URL:https://kaukauna.gov/event/committee-meetings-3/2026-12-14/
CATEGORIES:For Residents
ATTACH;FMTTYPE=image/png:https://kaukauna.gov/wp-content/uploads/2024/11/Municipal-Building-Photo-for-Website.png
END:VEVENT
BEGIN:VEVENT
DTSTART;VALUE=DATE:20261215
DTEND;VALUE=DATE:20261216
DTSTAMP:20260420T065608
CREATED:20241127T143134Z
LAST-MODIFIED:20251110T210954Z
UID:10000749-1797292800-1797379199@kaukauna.gov
SUMMARY:Recycle Pick-Up
DESCRIPTION:
URL:https://kaukauna.gov/event/recycle-pick-up/2026-12-15/
CATEGORIES:For Residents
ATTACH;FMTTYPE=image/png:https://kaukauna.gov/wp-content/uploads/2024/11/Recycle-photo-for-website.png
END:VEVENT
BEGIN:VEVENT
DTSTART;TZID=America/Chicago:20261215T190000
DTEND;TZID=America/Chicago:20261215T210000
DTSTAMP:20260420T065608
CREATED:20241127T150231Z
LAST-MODIFIED:20251110T184806Z
UID:10001140-1797361200-1797368400@kaukauna.gov
SUMMARY:Common Council Meeting
DESCRIPTION:
URL:https://kaukauna.gov/event/common-council-meeting-2/2026-12-15/
CATEGORIES:For Residents
ATTACH;FMTTYPE=image/png:https://kaukauna.gov/wp-content/uploads/2024/11/Municipal-Building-Photo-for-Website.png
END:VEVENT
END:VCALENDAR