BEGIN:VCALENDAR
VERSION:2.0
PRODID:-//City Of Kaukauna - ECPv6.15.20//NONSGML v1.0//EN
CALSCALE:GREGORIAN
METHOD:PUBLISH
X-WR-CALNAME:City Of Kaukauna
X-ORIGINAL-URL:https://kaukauna.gov
X-WR-CALDESC:Events for City Of Kaukauna
REFRESH-INTERVAL;VALUE=DURATION:PT1H
X-Robots-Tag:noindex
X-PUBLISHED-TTL:PT1H
BEGIN:VTIMEZONE
TZID:America/Chicago
BEGIN:DAYLIGHT
TZOFFSETFROM:-0600
TZOFFSETTO:-0500
TZNAME:CDT
DTSTART:20250309T080000
END:DAYLIGHT
BEGIN:STANDARD
TZOFFSETFROM:-0500
TZOFFSETTO:-0600
TZNAME:CST
DTSTART:20251102T070000
END:STANDARD
BEGIN:DAYLIGHT
TZOFFSETFROM:-0600
TZOFFSETTO:-0500
TZNAME:CDT
DTSTART:20260308T080000
END:DAYLIGHT
BEGIN:STANDARD
TZOFFSETFROM:-0500
TZOFFSETTO:-0600
TZNAME:CST
DTSTART:20261101T070000
END:STANDARD
BEGIN:DAYLIGHT
TZOFFSETFROM:-0600
TZOFFSETTO:-0500
TZNAME:CDT
DTSTART:20270314T080000
END:DAYLIGHT
BEGIN:STANDARD
TZOFFSETFROM:-0500
TZOFFSETTO:-0600
TZNAME:CST
DTSTART:20271107T070000
END:STANDARD
END:VTIMEZONE
BEGIN:VEVENT
DTSTART;TZID=America/Chicago:20260916T163000
DTEND;TZID=America/Chicago:20260916T190000
DTSTAMP:20260420T011406
CREATED:20251110T192003Z
LAST-MODIFIED:20251110T192003Z
UID:10002412-1789576200-1789585200@kaukauna.gov
SUMMARY:Farmers Market
DESCRIPTION:
URL:https://kaukauna.gov/event/farmers-market-4/2026-09-16/
ATTACH;FMTTYPE=image/png:https://kaukauna.gov/wp-content/uploads/2024/10/farmersmarket.png
END:VEVENT
BEGIN:VEVENT
DTSTART;TZID=America/Chicago:20260917T183000
DTEND;TZID=America/Chicago:20260917T193000
DTSTAMP:20260420T011406
CREATED:20251118T173559Z
LAST-MODIFIED:20251118T174739Z
UID:10002727-1789669800-1789673400@kaukauna.gov
SUMMARY:1000 Islands Committee Meeting
DESCRIPTION:
URL:https://kaukauna.gov/event/1000-islands-committee-meeting-10/2026-09-17/
LOCATION:1000 Islands Environmental Center\, 1000 Beaulieu Court\, Kaukauna\, 54130\, United States
CATEGORIES:Environmental Center
ATTACH;FMTTYPE=image/png:https://kaukauna.gov/wp-content/uploads/2025/11/1000-Islands-Committee-Meeting.png
ORGANIZER;CN="1000 Islands Environmental Center":MAILTO:thousandisland@kaukauna.gov
END:VEVENT
BEGIN:VEVENT
DTSTART;VALUE=DATE:20260921
DTEND;VALUE=DATE:20260922
DTSTAMP:20260420T011406
CREATED:20241127T143134Z
LAST-MODIFIED:20251110T210954Z
UID:10000724-1789948800-1790035199@kaukauna.gov
SUMMARY:Recycle Pick-Up
DESCRIPTION:
URL:https://kaukauna.gov/event/recycle-pick-up/2026-09-21/
CATEGORIES:For Residents
ATTACH;FMTTYPE=image/png:https://kaukauna.gov/wp-content/uploads/2024/11/Recycle-photo-for-website.png
END:VEVENT
BEGIN:VEVENT
DTSTART;TZID=America/Chicago:20260921T183000
DTEND;TZID=America/Chicago:20260921T193000
DTSTAMP:20260420T011406
CREATED:20251118T180048Z
LAST-MODIFIED:20251118T180818Z
UID:10002738-1790015400-1790019000@kaukauna.gov
SUMMARY:Friends of 1000 Islands Meeting
DESCRIPTION:Friends of 1000 Islands is group that wants to keep the 1000 Islands Environmental Center thriving for everyone to enjoy. Together\, we work on fun projects\, host events\, and volunteer to make a difference. Our nonprofit relies on the energy and ideas of our Friends community to support the Center through fundraising and hands-on help. Curious about joining us? Come to our monthly meeting on the third Monday of each month in the Conservation Room at the Nature Center. We’d love to welcome you!
URL:https://kaukauna.gov/event/friends-of-1000-islands-meeting/2026-09-21/
LOCATION:1000 Islands Environmental Center\, 1000 Beaulieu Court\, Kaukauna\, 54130\, United States
CATEGORIES:Environmental Center
ATTACH;FMTTYPE=image/png:https://kaukauna.gov/wp-content/uploads/2025/11/Friends-of-1000-Islands-Meeting.png
ORGANIZER;CN="1000 Islands Environmental Center":MAILTO:thousandisland@kaukauna.gov
END:VEVENT
BEGIN:VEVENT
DTSTART;VALUE=DATE:20260922
DTEND;VALUE=DATE:20260923
DTSTAMP:20260420T011406
CREATED:20241127T143134Z
LAST-MODIFIED:20251110T210954Z
UID:10000725-1790035200-1790121599@kaukauna.gov
SUMMARY:Recycle Pick-Up
DESCRIPTION:
URL:https://kaukauna.gov/event/recycle-pick-up/2026-09-22/
CATEGORIES:For Residents
ATTACH;FMTTYPE=image/png:https://kaukauna.gov/wp-content/uploads/2024/11/Recycle-photo-for-website.png
END:VEVENT
BEGIN:VEVENT
DTSTART;VALUE=DATE:20260923
DTEND;VALUE=DATE:20260924
DTSTAMP:20260420T011406
CREATED:20241127T143134Z
LAST-MODIFIED:20251110T210954Z
UID:10000726-1790121600-1790207999@kaukauna.gov
SUMMARY:Recycle Pick-Up
DESCRIPTION:
URL:https://kaukauna.gov/event/recycle-pick-up/2026-09-23/
CATEGORIES:For Residents
ATTACH;FMTTYPE=image/png:https://kaukauna.gov/wp-content/uploads/2024/11/Recycle-photo-for-website.png
END:VEVENT
BEGIN:VEVENT
DTSTART;TZID=America/Chicago:20260923T163000
DTEND;TZID=America/Chicago:20260923T190000
DTSTAMP:20260420T011406
CREATED:20251110T192003Z
LAST-MODIFIED:20251110T192003Z
UID:10002413-1790181000-1790190000@kaukauna.gov
SUMMARY:Farmers Market
DESCRIPTION:
URL:https://kaukauna.gov/event/farmers-market-4/2026-09-23/
ATTACH;FMTTYPE=image/png:https://kaukauna.gov/wp-content/uploads/2024/10/farmersmarket.png
END:VEVENT
BEGIN:VEVENT
DTSTART;VALUE=DATE:20260924
DTEND;VALUE=DATE:20260925
DTSTAMP:20260420T011406
CREATED:20241127T143134Z
LAST-MODIFIED:20251110T210954Z
UID:10000727-1790208000-1790294399@kaukauna.gov
SUMMARY:Recycle Pick-Up
DESCRIPTION:
URL:https://kaukauna.gov/event/recycle-pick-up/2026-09-24/
CATEGORIES:For Residents
ATTACH;FMTTYPE=image/png:https://kaukauna.gov/wp-content/uploads/2024/11/Recycle-photo-for-website.png
END:VEVENT
BEGIN:VEVENT
DTSTART;TZID=America/Chicago:20260930T163000
DTEND;TZID=America/Chicago:20260930T190000
DTSTAMP:20260420T011406
CREATED:20251110T192003Z
LAST-MODIFIED:20251110T192003Z
UID:10002414-1790785800-1790794800@kaukauna.gov
SUMMARY:Farmers Market
DESCRIPTION:
URL:https://kaukauna.gov/event/farmers-market-4/2026-09-30/
ATTACH;FMTTYPE=image/png:https://kaukauna.gov/wp-content/uploads/2024/10/farmersmarket.png
END:VEVENT
BEGIN:VEVENT
DTSTART;TZID=America/Chicago:20261001T090000
DTEND;TZID=America/Chicago:20261001T100000
DTSTAMP:20260420T011406
CREATED:20251110T185534Z
LAST-MODIFIED:20260227T175627Z
UID:10002363-1790845200-1790848800@kaukauna.gov
SUMMARY:RACK Meeting
DESCRIPTION:
URL:https://kaukauna.gov/event/rack-meeting-2/2026-10-01/
ATTACH;FMTTYPE=image/png:https://kaukauna.gov/wp-content/uploads/2024/11/Municipal-Building-Photo-for-Website.png
END:VEVENT
BEGIN:VEVENT
DTSTART;VALUE=DATE:20261004
DTEND;VALUE=DATE:20261011
DTSTAMP:20260420T011406
CREATED:20251110T211417Z
LAST-MODIFIED:20251110T211417Z
UID:10002463-1791072000-1791676799@kaukauna.gov
SUMMARY:Fire Prevention Week
DESCRIPTION:
URL:https://kaukauna.gov/event/fire-prevention-week-3/
ATTACH;FMTTYPE=image/jpeg:https://kaukauna.gov/wp-content/uploads/2024/11/Fire-Truck.jpg
END:VEVENT
BEGIN:VEVENT
DTSTART;VALUE=DATE:20261005
DTEND;VALUE=DATE:20261006
DTSTAMP:20260420T011406
CREATED:20241127T143134Z
LAST-MODIFIED:20251110T210954Z
UID:10000728-1791158400-1791244799@kaukauna.gov
SUMMARY:Recycle Pick-Up
DESCRIPTION:
URL:https://kaukauna.gov/event/recycle-pick-up/2026-10-05/
CATEGORIES:For Residents
ATTACH;FMTTYPE=image/png:https://kaukauna.gov/wp-content/uploads/2024/11/Recycle-photo-for-website.png
END:VEVENT
BEGIN:VEVENT
DTSTART;TZID=America/Chicago:20261005T180000
DTEND;TZID=America/Chicago:20261005T200000
DTSTAMP:20260420T011406
CREATED:20251110T160623Z
LAST-MODIFIED:20251110T160624Z
UID:10001330-1791223200-1791230400@kaukauna.gov
SUMMARY:Committee Meetings
DESCRIPTION:
URL:https://kaukauna.gov/event/committee-meetings-3/2026-10-05/
CATEGORIES:For Residents
ATTACH;FMTTYPE=image/png:https://kaukauna.gov/wp-content/uploads/2024/11/Municipal-Building-Photo-for-Website.png
END:VEVENT
BEGIN:VEVENT
DTSTART;VALUE=DATE:20261006
DTEND;VALUE=DATE:20261007
DTSTAMP:20260420T011406
CREATED:20241127T143134Z
LAST-MODIFIED:20251110T210954Z
UID:10000729-1791244800-1791331199@kaukauna.gov
SUMMARY:Recycle Pick-Up
DESCRIPTION:
URL:https://kaukauna.gov/event/recycle-pick-up/2026-10-06/
CATEGORIES:For Residents
ATTACH;FMTTYPE=image/png:https://kaukauna.gov/wp-content/uploads/2024/11/Recycle-photo-for-website.png
END:VEVENT
BEGIN:VEVENT
DTSTART;TZID=America/Chicago:20261006T190000
DTEND;TZID=America/Chicago:20261006T210000
DTSTAMP:20260420T011406
CREATED:20250630T113428Z
LAST-MODIFIED:20251110T161554Z
UID:10001079-1791313200-1791320400@kaukauna.gov
SUMMARY:Common Council Meeting
DESCRIPTION:
URL:https://kaukauna.gov/event/common-council-meeting-3/2026-10-06/
CATEGORIES:For Residents
ATTACH;FMTTYPE=image/png:https://kaukauna.gov/wp-content/uploads/2024/11/Municipal-Building-Photo-for-Website.png
END:VEVENT
BEGIN:VEVENT
DTSTART;VALUE=DATE:20261007
DTEND;VALUE=DATE:20261008
DTSTAMP:20260420T011406
CREATED:20241127T143134Z
LAST-MODIFIED:20251110T210954Z
UID:10000730-1791331200-1791417599@kaukauna.gov
SUMMARY:Recycle Pick-Up
DESCRIPTION:
URL:https://kaukauna.gov/event/recycle-pick-up/2026-10-07/
CATEGORIES:For Residents
ATTACH;FMTTYPE=image/png:https://kaukauna.gov/wp-content/uploads/2024/11/Recycle-photo-for-website.png
END:VEVENT
BEGIN:VEVENT
DTSTART;VALUE=DATE:20261008
DTEND;VALUE=DATE:20261009
DTSTAMP:20260420T011406
CREATED:20241127T143134Z
LAST-MODIFIED:20251110T210954Z
UID:10000731-1791417600-1791503999@kaukauna.gov
SUMMARY:Recycle Pick-Up
DESCRIPTION:
URL:https://kaukauna.gov/event/recycle-pick-up/2026-10-08/
CATEGORIES:For Residents
ATTACH;FMTTYPE=image/png:https://kaukauna.gov/wp-content/uploads/2024/11/Recycle-photo-for-website.png
END:VEVENT
BEGIN:VEVENT
DTSTART;TZID=America/Chicago:20261010T080000
DTEND;TZID=America/Chicago:20261010T120000
DTSTAMP:20260420T011406
CREATED:20251110T200320Z
LAST-MODIFIED:20251110T200320Z
UID:10002452-1791619200-1791633600@kaukauna.gov
SUMMARY:Fall Fest
DESCRIPTION:
URL:https://kaukauna.gov/event/fall-fest-3/
ATTACH;FMTTYPE=image/jpeg:https://kaukauna.gov/wp-content/uploads/2024/12/Street-Park-and-Rec-Building.jpg
END:VEVENT
BEGIN:VEVENT
DTSTART;TZID=America/Chicago:20261010T090000
DTEND;TZID=America/Chicago:20261010T130000
DTSTAMP:20260420T011406
CREATED:20251110T200402Z
LAST-MODIFIED:20251110T200402Z
UID:10002453-1791622800-1791637200@kaukauna.gov
SUMMARY:Library Winter Coat Drive
DESCRIPTION:
URL:https://kaukauna.gov/event/library-winter-coat-drive-2/
ATTACH;FMTTYPE=image/jpeg:https://kaukauna.gov/wp-content/uploads/2024/11/June-Kaukauna-Public-Library.jpg
END:VEVENT
BEGIN:VEVENT
DTSTART;VALUE=DATE:20261012
DTEND;VALUE=DATE:20261016
DTSTAMP:20260420T011406
CREATED:20251110T171931Z
LAST-MODIFIED:20251110T212434Z
UID:10002343-1791763200-1792108799@kaukauna.gov
SUMMARY:LAST Large & Irregular Garbage (5 Items Max) & Branch Pick-Up for 2026
DESCRIPTION:
URL:https://kaukauna.gov/event/last-large-irregular-garbage-branch-pick-up-for-2026/
ATTACH;FMTTYPE=image/png:https://kaukauna.gov/wp-content/uploads/2025/11/Copy-of-LargeIrregular-Garbage-Pick-Up.png
END:VEVENT
BEGIN:VEVENT
DTSTART;TZID=America/Chicago:20261015T183000
DTEND;TZID=America/Chicago:20261015T193000
DTSTAMP:20260420T011406
CREATED:20251118T173559Z
LAST-MODIFIED:20251118T174739Z
UID:10002728-1792089000-1792092600@kaukauna.gov
SUMMARY:1000 Islands Committee Meeting
DESCRIPTION:
URL:https://kaukauna.gov/event/1000-islands-committee-meeting-10/2026-10-15/
LOCATION:1000 Islands Environmental Center\, 1000 Beaulieu Court\, Kaukauna\, 54130\, United States
CATEGORIES:Environmental Center
ATTACH;FMTTYPE=image/png:https://kaukauna.gov/wp-content/uploads/2025/11/1000-Islands-Committee-Meeting.png
ORGANIZER;CN="1000 Islands Environmental Center":MAILTO:thousandisland@kaukauna.gov
END:VEVENT
BEGIN:VEVENT
DTSTART;VALUE=DATE:20261019
DTEND;VALUE=DATE:20261020
DTSTAMP:20260420T011406
CREATED:20241127T143134Z
LAST-MODIFIED:20251110T210954Z
UID:10000732-1792368000-1792454399@kaukauna.gov
SUMMARY:Recycle Pick-Up
DESCRIPTION:
URL:https://kaukauna.gov/event/recycle-pick-up/2026-10-19/
CATEGORIES:For Residents
ATTACH;FMTTYPE=image/png:https://kaukauna.gov/wp-content/uploads/2024/11/Recycle-photo-for-website.png
END:VEVENT
BEGIN:VEVENT
DTSTART;VALUE=DATE:20261019
DTEND;VALUE=DATE:20261023
DTSTAMP:20260420T011406
CREATED:20251110T193944Z
LAST-MODIFIED:20251110T193944Z
UID:10002435-1792368000-1792713599@kaukauna.gov
SUMMARY:Leaf Collection
DESCRIPTION:
URL:https://kaukauna.gov/event/leaf-collection-7/
ATTACH;FMTTYPE=image/png:https://kaukauna.gov/wp-content/uploads/2025/11/Copy-of-Leaf-Collection-Reminder-2025.png
END:VEVENT
BEGIN:VEVENT
DTSTART;TZID=America/Chicago:20261019T180000
DTEND;TZID=America/Chicago:20261019T200000
DTSTAMP:20260420T011406
CREATED:20241203T151815Z
LAST-MODIFIED:20251110T184701Z
UID:10001269-1792432800-1792440000@kaukauna.gov
SUMMARY:Committee Meetings
DESCRIPTION:
URL:https://kaukauna.gov/event/committee-meetings-2/2026-10-19/
CATEGORIES:For Residents
ATTACH;FMTTYPE=image/png:https://kaukauna.gov/wp-content/uploads/2024/11/Municipal-Building-Photo-for-Website.png
END:VEVENT
BEGIN:VEVENT
DTSTART;TZID=America/Chicago:20261019T183000
DTEND;TZID=America/Chicago:20261019T193000
DTSTAMP:20260420T011406
CREATED:20251118T180048Z
LAST-MODIFIED:20251118T180818Z
UID:10002739-1792434600-1792438200@kaukauna.gov
SUMMARY:Friends of 1000 Islands Meeting
DESCRIPTION:Friends of 1000 Islands is group that wants to keep the 1000 Islands Environmental Center thriving for everyone to enjoy. Together\, we work on fun projects\, host events\, and volunteer to make a difference. Our nonprofit relies on the energy and ideas of our Friends community to support the Center through fundraising and hands-on help. Curious about joining us? Come to our monthly meeting on the third Monday of each month in the Conservation Room at the Nature Center. We’d love to welcome you!
URL:https://kaukauna.gov/event/friends-of-1000-islands-meeting/2026-10-19/
LOCATION:1000 Islands Environmental Center\, 1000 Beaulieu Court\, Kaukauna\, 54130\, United States
CATEGORIES:Environmental Center
ATTACH;FMTTYPE=image/png:https://kaukauna.gov/wp-content/uploads/2025/11/Friends-of-1000-Islands-Meeting.png
ORGANIZER;CN="1000 Islands Environmental Center":MAILTO:thousandisland@kaukauna.gov
END:VEVENT
BEGIN:VEVENT
DTSTART;VALUE=DATE:20261020
DTEND;VALUE=DATE:20261021
DTSTAMP:20260420T011406
CREATED:20241127T143134Z
LAST-MODIFIED:20251110T210954Z
UID:10000733-1792454400-1792540799@kaukauna.gov
SUMMARY:Recycle Pick-Up
DESCRIPTION:
URL:https://kaukauna.gov/event/recycle-pick-up/2026-10-20/
CATEGORIES:For Residents
ATTACH;FMTTYPE=image/png:https://kaukauna.gov/wp-content/uploads/2024/11/Recycle-photo-for-website.png
END:VEVENT
BEGIN:VEVENT
DTSTART;TZID=America/Chicago:20261020T190000
DTEND;TZID=America/Chicago:20261020T210000
DTSTAMP:20260420T011406
CREATED:20241127T150231Z
LAST-MODIFIED:20251110T184806Z
UID:10001138-1792522800-1792530000@kaukauna.gov
SUMMARY:Common Council Meeting
DESCRIPTION:
URL:https://kaukauna.gov/event/common-council-meeting-2/2026-10-20/
CATEGORIES:For Residents
ATTACH;FMTTYPE=image/png:https://kaukauna.gov/wp-content/uploads/2024/11/Municipal-Building-Photo-for-Website.png
END:VEVENT
BEGIN:VEVENT
DTSTART;VALUE=DATE:20261021
DTEND;VALUE=DATE:20261022
DTSTAMP:20260420T011406
CREATED:20241127T143134Z
LAST-MODIFIED:20251110T210954Z
UID:10000734-1792540800-1792627199@kaukauna.gov
SUMMARY:Recycle Pick-Up
DESCRIPTION:
URL:https://kaukauna.gov/event/recycle-pick-up/2026-10-21/
CATEGORIES:For Residents
ATTACH;FMTTYPE=image/png:https://kaukauna.gov/wp-content/uploads/2024/11/Recycle-photo-for-website.png
END:VEVENT
BEGIN:VEVENT
DTSTART;VALUE=DATE:20261022
DTEND;VALUE=DATE:20261023
DTSTAMP:20260420T011406
CREATED:20241127T143134Z
LAST-MODIFIED:20251110T210954Z
UID:10000735-1792627200-1792713599@kaukauna.gov
SUMMARY:Recycle Pick-Up
DESCRIPTION:
URL:https://kaukauna.gov/event/recycle-pick-up/2026-10-22/
CATEGORIES:For Residents
ATTACH;FMTTYPE=image/png:https://kaukauna.gov/wp-content/uploads/2024/11/Recycle-photo-for-website.png
END:VEVENT
BEGIN:VEVENT
DTSTART;VALUE=DATE:20261026
DTEND;VALUE=DATE:20261030
DTSTAMP:20260420T011406
CREATED:20251110T194017Z
LAST-MODIFIED:20251110T194017Z
UID:10002436-1792972800-1793318399@kaukauna.gov
SUMMARY:Leaf Collection
DESCRIPTION:
URL:https://kaukauna.gov/event/leaf-collection-8/
ATTACH;FMTTYPE=image/png:https://kaukauna.gov/wp-content/uploads/2025/11/Copy-of-Leaf-Collection-Reminder-2025.png
END:VEVENT
END:VCALENDAR