BEGIN:VCALENDAR
VERSION:2.0
PRODID:-//City Of Kaukauna - ECPv6.15.20//NONSGML v1.0//EN
CALSCALE:GREGORIAN
METHOD:PUBLISH
X-WR-CALNAME:City Of Kaukauna
X-ORIGINAL-URL:https://kaukauna.gov
X-WR-CALDESC:Events for City Of Kaukauna
REFRESH-INTERVAL;VALUE=DURATION:PT1H
X-Robots-Tag:noindex
X-PUBLISHED-TTL:PT1H
BEGIN:VTIMEZONE
TZID:America/Chicago
BEGIN:DAYLIGHT
TZOFFSETFROM:-0600
TZOFFSETTO:-0500
TZNAME:CDT
DTSTART:20250309T080000
END:DAYLIGHT
BEGIN:STANDARD
TZOFFSETFROM:-0500
TZOFFSETTO:-0600
TZNAME:CST
DTSTART:20251102T070000
END:STANDARD
BEGIN:DAYLIGHT
TZOFFSETFROM:-0600
TZOFFSETTO:-0500
TZNAME:CDT
DTSTART:20260308T080000
END:DAYLIGHT
BEGIN:STANDARD
TZOFFSETFROM:-0500
TZOFFSETTO:-0600
TZNAME:CST
DTSTART:20261101T070000
END:STANDARD
BEGIN:DAYLIGHT
TZOFFSETFROM:-0600
TZOFFSETTO:-0500
TZNAME:CDT
DTSTART:20270314T080000
END:DAYLIGHT
BEGIN:STANDARD
TZOFFSETFROM:-0500
TZOFFSETTO:-0600
TZNAME:CST
DTSTART:20271107T070000
END:STANDARD
END:VTIMEZONE
BEGIN:VEVENT
DTSTART;TZID=America/Chicago:20260805T163000
DTEND;TZID=America/Chicago:20260805T200000
DTSTAMP:20260419T182153
CREATED:20251110T192003Z
LAST-MODIFIED:20251110T192003Z
UID:10002406-1785947400-1785960000@kaukauna.gov
SUMMARY:Farmers Market
DESCRIPTION:
URL:https://kaukauna.gov/event/farmers-market-4/2026-08-05/
ATTACH;FMTTYPE=image/png:https://kaukauna.gov/wp-content/uploads/2024/10/farmersmarket.png
END:VEVENT
BEGIN:VEVENT
DTSTART;TZID=America/Chicago:20260805T173000
DTEND;TZID=America/Chicago:20260805T203000
DTSTAMP:20260419T182153
CREATED:20251110T192351Z
LAST-MODIFIED:20251110T192351Z
UID:10002424-1785951000-1785961800@kaukauna.gov
SUMMARY:Live! from Hydro
DESCRIPTION:
URL:https://kaukauna.gov/event/live-from-hydro-2/2026-08-05/
ATTACH;FMTTYPE=image/png:https://kaukauna.gov/wp-content/uploads/2024/11/KAU_LiveLogo_4C.png
END:VEVENT
BEGIN:VEVENT
DTSTART;TZID=America/Chicago:20260806T090000
DTEND;TZID=America/Chicago:20260806T100000
DTSTAMP:20260419T182153
CREATED:20251110T185534Z
LAST-MODIFIED:20260227T175627Z
UID:10002361-1786006800-1786010400@kaukauna.gov
SUMMARY:RACK Meeting
DESCRIPTION:
URL:https://kaukauna.gov/event/rack-meeting-2/2026-08-06/
ATTACH;FMTTYPE=image/png:https://kaukauna.gov/wp-content/uploads/2024/11/Municipal-Building-Photo-for-Website.png
END:VEVENT
BEGIN:VEVENT
DTSTART;TZID=America/Chicago:20260806T093000
DTEND;TZID=America/Chicago:20260806T110000
DTSTAMP:20260419T182153
CREATED:20260312T202507Z
LAST-MODIFIED:20260312T202856Z
UID:10002864-1786008600-1786014000@kaukauna.gov
SUMMARY:Community Crayfish and Critter Hunt
DESCRIPTION:Join our Naturalists for an exciting adventure in the Konkapot Creek catching crayfish and other aquatic critters. Wear shoes to walk in water. Bring a net and bucket if you have one. Supplies will be available to share for those who need them. Registration not required. \nThe crayfishing spot is located to the west of the Nature Center\, just behind the press box that sits beyond the track area. From the Nature Center\, head west toward the athletic field. Once you pass the track\, you’ll see the press box structure—the crayfishing access is directly behind it\, along the natural shoreline. \n 
URL:https://kaukauna.gov/event/community-crayfish-and-critter-hunt/2026-08-06/
LOCATION:1000 Islands Environmental Center\, 1000 Beaulieu Court\, Kaukauna\, 54130\, United States
CATEGORIES:Environmental Center,Family Friendly,Free,Outdoors
ATTACH;FMTTYPE=image/png:https://kaukauna.gov/wp-content/uploads/2026/03/Crayfishing-2.png
ORGANIZER;CN="1000 Islands Environmental Center":MAILTO:thousandisland@kaukauna.gov
END:VEVENT
BEGIN:VEVENT
DTSTART;TZID=America/Chicago:20260807T093000
DTEND;TZID=America/Chicago:20260807T103000
DTSTAMP:20260419T182153
CREATED:20260311T192005Z
LAST-MODIFIED:20260311T192005Z
UID:10002850-1786095000-1786098600@kaukauna.gov
SUMMARY:1000 Little Wonders
DESCRIPTION:This class is for children 3-5 years old and their parent/guardian. Listen to a story\, explore the outdoors\, and make a themed craft. This program will be indoors and outdoors. Class size is limited. Be sure to pre-register by email: thousandisland@kaukauna.gov or call: (920) 766-4733. FREE
URL:https://kaukauna.gov/event/1000-little-wonders/2026-08-07/
LOCATION:1000 Islands Environmental Center\, 1000 Beaulieu Court\, Kaukauna\, 54130\, United States
CATEGORIES:Environmental Center,Family Friendly,Free,Outdoors
ATTACH;FMTTYPE=image/png:https://kaukauna.gov/wp-content/uploads/2026/03/1000-Little-Wonders.png
ORGANIZER;CN="1000 Islands Environmental Center":MAILTO:thousandisland@kaukauna.gov
END:VEVENT
BEGIN:VEVENT
DTSTART;TZID=America/Chicago:20260808T090000
DTEND;TZID=America/Chicago:20260808T120000
DTSTAMP:20260419T182153
CREATED:20260312T192502Z
LAST-MODIFIED:20260312T193952Z
UID:10002857-1786179600-1786190400@kaukauna.gov
SUMMARY:Service Saturday
DESCRIPTION:Lend a hand in the Conservancy Zone and make a difference in your community. Help is needed to control invasive species\, plant seedlings\, trees\, and flowers\, clean up garden beds\, trail repair\, and general maintenance. This is a great opportunity for team building\, volunteer hour requirements\, and scout conservation hours. All ages and abilities are welcome. No registration required. FREE \n2026 Dates:\n05/30\n06/13\n07/11\n08/08 \nPlease bring your own refillable water bottle and work gloves. If you don’t have gloves\, we’ll have a limited number available.
URL:https://kaukauna.gov/event/service-saturday/2026-08-08/
LOCATION:1000 Islands Environmental Center\, 1000 Beaulieu Court\, Kaukauna\, 54130\, United States
CATEGORIES:Environmental Center,Free,Outdoors
ATTACH;FMTTYPE=image/png:https://kaukauna.gov/wp-content/uploads/2026/03/Service-Saturday-Logo-Facebook-Post-2.png
ORGANIZER;CN="1000 Islands Environmental Center":MAILTO:thousandisland@kaukauna.gov
END:VEVENT
BEGIN:VEVENT
DTSTART;TZID=America/Chicago:20260809T100000
DTEND;TZID=America/Chicago:20260809T150000
DTSTAMP:20260419T182153
CREATED:20251110T195641Z
LAST-MODIFIED:20251110T195641Z
UID:10002447-1786269600-1786287600@kaukauna.gov
SUMMARY:Rob Jackels Memorial Car Show
DESCRIPTION:
URL:https://kaukauna.gov/event/rob-jackels-memorial-car-show/
LOCATION:Charles A. Grignon Mansion @ 1313 Augustine St.\, 1313 Augustine St\, Kaukauna\, Wisconsin\, 54130
ATTACH;FMTTYPE=image/png:https://kaukauna.gov/wp-content/uploads/2024/10/Grignon-Mansion-Logo-e1729095601339.png
END:VEVENT
BEGIN:VEVENT
DTSTART;VALUE=DATE:20260810
DTEND;VALUE=DATE:20260811
DTSTAMP:20260419T182153
CREATED:20241127T143134Z
LAST-MODIFIED:20251110T210954Z
UID:10000712-1786320000-1786406399@kaukauna.gov
SUMMARY:Recycle Pick-Up
DESCRIPTION:
URL:https://kaukauna.gov/event/recycle-pick-up/2026-08-10/
CATEGORIES:For Residents
ATTACH;FMTTYPE=image/png:https://kaukauna.gov/wp-content/uploads/2024/11/Recycle-photo-for-website.png
END:VEVENT
BEGIN:VEVENT
DTSTART;VALUE=DATE:20260810
DTEND;VALUE=DATE:20260814
DTSTAMP:20260419T182153
CREATED:20251110T171812Z
LAST-MODIFIED:20251110T212345Z
UID:10002341-1786320000-1786665599@kaukauna.gov
SUMMARY:Large & Irregular Garbage (5 Items Max) & Branch Pick-Up
DESCRIPTION:
URL:https://kaukauna.gov/event/large-irregular-garbage-branch-pick-up-5/
ATTACH;FMTTYPE=image/png:https://kaukauna.gov/wp-content/uploads/2025/11/Copy-of-LargeIrregular-Garbage-Pick-Up.png
END:VEVENT
BEGIN:VEVENT
DTSTART;VALUE=DATE:20260811
DTEND;VALUE=DATE:20260812
DTSTAMP:20260419T182153
CREATED:20241127T143134Z
LAST-MODIFIED:20251110T210954Z
UID:10000713-1786406400-1786492799@kaukauna.gov
SUMMARY:Recycle Pick-Up
DESCRIPTION:
URL:https://kaukauna.gov/event/recycle-pick-up/2026-08-11/
CATEGORIES:For Residents
ATTACH;FMTTYPE=image/png:https://kaukauna.gov/wp-content/uploads/2024/11/Recycle-photo-for-website.png
END:VEVENT
BEGIN:VEVENT
DTSTART;TZID=America/Chicago:20260811T070000
DTEND;TZID=America/Chicago:20260811T200000
DTSTAMP:20260419T182153
CREATED:20251110T165601Z
LAST-MODIFIED:20251110T165601Z
UID:10002333-1786431600-1786478400@kaukauna.gov
SUMMARY:Partisan Primary Election
DESCRIPTION:
URL:https://kaukauna.gov/event/partisan-primary-election/
ATTACH;FMTTYPE=image/png:https://kaukauna.gov/wp-content/uploads/2024/11/Municipal-Building-Photo-for-Website.png
END:VEVENT
BEGIN:VEVENT
DTSTART;VALUE=DATE:20260812
DTEND;VALUE=DATE:20260813
DTSTAMP:20260419T182153
CREATED:20241127T143134Z
LAST-MODIFIED:20251110T210954Z
UID:10000714-1786492800-1786579199@kaukauna.gov
SUMMARY:Recycle Pick-Up
DESCRIPTION:
URL:https://kaukauna.gov/event/recycle-pick-up/2026-08-12/
CATEGORIES:For Residents
ATTACH;FMTTYPE=image/png:https://kaukauna.gov/wp-content/uploads/2024/11/Recycle-photo-for-website.png
END:VEVENT
BEGIN:VEVENT
DTSTART;TZID=America/Chicago:20260812T163000
DTEND;TZID=America/Chicago:20260812T200000
DTSTAMP:20260419T182153
CREATED:20251110T192003Z
LAST-MODIFIED:20251110T192003Z
UID:10002407-1786552200-1786564800@kaukauna.gov
SUMMARY:Farmers Market
DESCRIPTION:
URL:https://kaukauna.gov/event/farmers-market-4/2026-08-12/
ATTACH;FMTTYPE=image/png:https://kaukauna.gov/wp-content/uploads/2024/10/farmersmarket.png
END:VEVENT
BEGIN:VEVENT
DTSTART;VALUE=DATE:20260813
DTEND;VALUE=DATE:20260814
DTSTAMP:20260419T182153
CREATED:20241127T143134Z
LAST-MODIFIED:20251110T210954Z
UID:10000715-1786579200-1786665599@kaukauna.gov
SUMMARY:Recycle Pick-Up
DESCRIPTION:
URL:https://kaukauna.gov/event/recycle-pick-up/2026-08-13/
CATEGORIES:For Residents
ATTACH;FMTTYPE=image/png:https://kaukauna.gov/wp-content/uploads/2024/11/Recycle-photo-for-website.png
END:VEVENT
BEGIN:VEVENT
DTSTART;TZID=America/Chicago:20260814T081500
DTEND;TZID=America/Chicago:20260814T100000
DTSTAMP:20260419T182153
CREATED:20251110T195923Z
LAST-MODIFIED:20251110T195923Z
UID:10002449-1786695300-1786701600@kaukauna.gov
SUMMARY:Library School Supply Drive
DESCRIPTION:
URL:https://kaukauna.gov/event/library-school-supply-drive/
LOCATION:Kaukauna Public Library @ 207 Thilmany Road\, Suite 200 Kaukauna
ATTACH;FMTTYPE=image/jpeg:https://kaukauna.gov/wp-content/uploads/2024/11/June-Kaukauna-Public-Library.jpg
END:VEVENT
BEGIN:VEVENT
DTSTART;VALUE=DATE:20260816
DTEND;VALUE=DATE:20260817
DTSTAMP:20260419T182153
CREATED:20251110T200018Z
LAST-MODIFIED:20251110T200018Z
UID:10002450-1786838400-1786924799@kaukauna.gov
SUMMARY:Aquatic Center Closes
DESCRIPTION:
URL:https://kaukauna.gov/event/aquatic-center-closes-2/
ATTACH;FMTTYPE=image/jpeg:https://kaukauna.gov/wp-content/uploads/2024/12/Aquatic-Center.jpg
END:VEVENT
BEGIN:VEVENT
DTSTART;TZID=America/Chicago:20260817T170000
DTEND;TZID=America/Chicago:20260817T200000
DTSTAMP:20260419T182153
CREATED:20251110T195759Z
LAST-MODIFIED:20251110T195759Z
UID:10002448-1786986000-1786996800@kaukauna.gov
SUMMARY:Library "Fairy Walk" at 1000 Islands
DESCRIPTION:
URL:https://kaukauna.gov/event/library-fairy-walk-at-1000-islands-2/
LOCATION:1000 Islands Environmental Center\, 1000 Beaulieu Court\, Kaukauna\, 54130\, United States
ATTACH;FMTTYPE=image/png:https://kaukauna.gov/wp-content/uploads/2024/10/Logos-for-Website-3.png
END:VEVENT
BEGIN:VEVENT
DTSTART;TZID=America/Chicago:20260817T180000
DTEND;TZID=America/Chicago:20260817T200000
DTSTAMP:20260419T182153
CREATED:20241203T151815Z
LAST-MODIFIED:20251110T184701Z
UID:10001267-1786989600-1786996800@kaukauna.gov
SUMMARY:Committee Meetings
DESCRIPTION:
URL:https://kaukauna.gov/event/committee-meetings-2/2026-08-17/
CATEGORIES:For Residents
ATTACH;FMTTYPE=image/png:https://kaukauna.gov/wp-content/uploads/2024/11/Municipal-Building-Photo-for-Website.png
END:VEVENT
BEGIN:VEVENT
DTSTART;TZID=America/Chicago:20260817T183000
DTEND;TZID=America/Chicago:20260817T193000
DTSTAMP:20260419T182153
CREATED:20251118T180048Z
LAST-MODIFIED:20251118T180818Z
UID:10002737-1786991400-1786995000@kaukauna.gov
SUMMARY:Friends of 1000 Islands Meeting
DESCRIPTION:Friends of 1000 Islands is group that wants to keep the 1000 Islands Environmental Center thriving for everyone to enjoy. Together\, we work on fun projects\, host events\, and volunteer to make a difference. Our nonprofit relies on the energy and ideas of our Friends community to support the Center through fundraising and hands-on help. Curious about joining us? Come to our monthly meeting on the third Monday of each month in the Conservation Room at the Nature Center. We’d love to welcome you!
URL:https://kaukauna.gov/event/friends-of-1000-islands-meeting/2026-08-17/
LOCATION:1000 Islands Environmental Center\, 1000 Beaulieu Court\, Kaukauna\, 54130\, United States
CATEGORIES:Environmental Center
ATTACH;FMTTYPE=image/png:https://kaukauna.gov/wp-content/uploads/2025/11/Friends-of-1000-Islands-Meeting.png
ORGANIZER;CN="1000 Islands Environmental Center":MAILTO:thousandisland@kaukauna.gov
END:VEVENT
BEGIN:VEVENT
DTSTART;TZID=America/Chicago:20260818T123000
DTEND;TZID=America/Chicago:20260818T140000
DTSTAMP:20260419T182153
CREATED:20260312T202507Z
LAST-MODIFIED:20260312T202856Z
UID:10002865-1787056200-1787061600@kaukauna.gov
SUMMARY:Community Crayfish and Critter Hunt
DESCRIPTION:Join our Naturalists for an exciting adventure in the Konkapot Creek catching crayfish and other aquatic critters. Wear shoes to walk in water. Bring a net and bucket if you have one. Supplies will be available to share for those who need them. Registration not required. \nThe crayfishing spot is located to the west of the Nature Center\, just behind the press box that sits beyond the track area. From the Nature Center\, head west toward the athletic field. Once you pass the track\, you’ll see the press box structure—the crayfishing access is directly behind it\, along the natural shoreline. \n 
URL:https://kaukauna.gov/event/community-crayfish-and-critter-hunt/2026-08-18/
LOCATION:1000 Islands Environmental Center\, 1000 Beaulieu Court\, Kaukauna\, 54130\, United States
CATEGORIES:Environmental Center,Family Friendly,Free,Outdoors
ATTACH;FMTTYPE=image/png:https://kaukauna.gov/wp-content/uploads/2026/03/Crayfishing-2.png
ORGANIZER;CN="1000 Islands Environmental Center":MAILTO:thousandisland@kaukauna.gov
END:VEVENT
BEGIN:VEVENT
DTSTART;TZID=America/Chicago:20260818T190000
DTEND;TZID=America/Chicago:20260818T210000
DTSTAMP:20260419T182153
CREATED:20241127T150231Z
LAST-MODIFIED:20251110T184806Z
UID:10001136-1787079600-1787086800@kaukauna.gov
SUMMARY:Common Council Meeting
DESCRIPTION:
URL:https://kaukauna.gov/event/common-council-meeting-2/2026-08-18/
CATEGORIES:For Residents
ATTACH;FMTTYPE=image/png:https://kaukauna.gov/wp-content/uploads/2024/11/Municipal-Building-Photo-for-Website.png
END:VEVENT
BEGIN:VEVENT
DTSTART;TZID=America/Chicago:20260819T163000
DTEND;TZID=America/Chicago:20260819T200000
DTSTAMP:20260419T182153
CREATED:20251110T192003Z
LAST-MODIFIED:20251110T192003Z
UID:10002408-1787157000-1787169600@kaukauna.gov
SUMMARY:Farmers Market
DESCRIPTION:
URL:https://kaukauna.gov/event/farmers-market-4/2026-08-19/
ATTACH;FMTTYPE=image/png:https://kaukauna.gov/wp-content/uploads/2024/10/farmersmarket.png
END:VEVENT
BEGIN:VEVENT
DTSTART;TZID=America/Chicago:20260820T183000
DTEND;TZID=America/Chicago:20260820T193000
DTSTAMP:20260419T182153
CREATED:20251118T173559Z
LAST-MODIFIED:20251118T174739Z
UID:10002726-1787250600-1787254200@kaukauna.gov
SUMMARY:1000 Islands Committee Meeting
DESCRIPTION:
URL:https://kaukauna.gov/event/1000-islands-committee-meeting-10/2026-08-20/
LOCATION:1000 Islands Environmental Center\, 1000 Beaulieu Court\, Kaukauna\, 54130\, United States
CATEGORIES:Environmental Center
ATTACH;FMTTYPE=image/png:https://kaukauna.gov/wp-content/uploads/2025/11/1000-Islands-Committee-Meeting.png
ORGANIZER;CN="1000 Islands Environmental Center":MAILTO:thousandisland@kaukauna.gov
END:VEVENT
BEGIN:VEVENT
DTSTART;TZID=America/Chicago:20260821T093000
DTEND;TZID=America/Chicago:20260821T103000
DTSTAMP:20260419T182153
CREATED:20260312T182800Z
LAST-MODIFIED:20260312T182800Z
UID:10002853-1787304600-1787308200@kaukauna.gov
SUMMARY:1000 Little Wonders EXPLORERS!
DESCRIPTION:This class is for children 3-5 years old and their parent/guardian. Children will learn about natural topics through hands-on exploration. This will take place outdoors (weather permitting) so come dressed for getting outside and getting messy! \n2026 Dates & Topics: \n6/26 – Crayfish\n7/24 – Reptiles\n8/21 – Small Mammals \nTo register\, email thousandisland@kaukauna.gov or call: (920) 766-4733. FREE
URL:https://kaukauna.gov/event/1000-little-wonders-explorers/2026-08-21/
LOCATION:1000 Islands Environmental Center\, 1000 Beaulieu Court\, Kaukauna\, 54130\, United States
ATTACH;FMTTYPE=image/png:https://kaukauna.gov/wp-content/uploads/2026/03/Copy-of-Explorers-1000-Little-Wonders-small-mammals.png
ORGANIZER;CN="1000 Islands Environmental Center":MAILTO:thousandisland@kaukauna.gov
END:VEVENT
BEGIN:VEVENT
DTSTART;VALUE=DATE:20260824
DTEND;VALUE=DATE:20260825
DTSTAMP:20260419T182153
CREATED:20241127T143134Z
LAST-MODIFIED:20251110T210954Z
UID:10000716-1787529600-1787615999@kaukauna.gov
SUMMARY:Recycle Pick-Up
DESCRIPTION:
URL:https://kaukauna.gov/event/recycle-pick-up/2026-08-24/
CATEGORIES:For Residents
ATTACH;FMTTYPE=image/png:https://kaukauna.gov/wp-content/uploads/2024/11/Recycle-photo-for-website.png
END:VEVENT
BEGIN:VEVENT
DTSTART;VALUE=DATE:20260825
DTEND;VALUE=DATE:20260826
DTSTAMP:20260419T182153
CREATED:20241127T143134Z
LAST-MODIFIED:20251110T210954Z
UID:10000717-1787616000-1787702399@kaukauna.gov
SUMMARY:Recycle Pick-Up
DESCRIPTION:
URL:https://kaukauna.gov/event/recycle-pick-up/2026-08-25/
CATEGORIES:For Residents
ATTACH;FMTTYPE=image/png:https://kaukauna.gov/wp-content/uploads/2024/11/Recycle-photo-for-website.png
END:VEVENT
BEGIN:VEVENT
DTSTART;VALUE=DATE:20260826
DTEND;VALUE=DATE:20260827
DTSTAMP:20260419T182153
CREATED:20241127T143134Z
LAST-MODIFIED:20251110T210954Z
UID:10000718-1787702400-1787788799@kaukauna.gov
SUMMARY:Recycle Pick-Up
DESCRIPTION:
URL:https://kaukauna.gov/event/recycle-pick-up/2026-08-26/
CATEGORIES:For Residents
ATTACH;FMTTYPE=image/png:https://kaukauna.gov/wp-content/uploads/2024/11/Recycle-photo-for-website.png
END:VEVENT
BEGIN:VEVENT
DTSTART;TZID=America/Chicago:20260826T163000
DTEND;TZID=America/Chicago:20260826T200000
DTSTAMP:20260419T182153
CREATED:20251110T192003Z
LAST-MODIFIED:20251110T192003Z
UID:10002409-1787761800-1787774400@kaukauna.gov
SUMMARY:Farmers Market
DESCRIPTION:
URL:https://kaukauna.gov/event/farmers-market-4/2026-08-26/
ATTACH;FMTTYPE=image/png:https://kaukauna.gov/wp-content/uploads/2024/10/farmersmarket.png
END:VEVENT
BEGIN:VEVENT
DTSTART;VALUE=DATE:20260827
DTEND;VALUE=DATE:20260828
DTSTAMP:20260419T182153
CREATED:20241127T143134Z
LAST-MODIFIED:20251110T210954Z
UID:10000719-1787788800-1787875199@kaukauna.gov
SUMMARY:Recycle Pick-Up
DESCRIPTION:
URL:https://kaukauna.gov/event/recycle-pick-up/2026-08-27/
CATEGORIES:For Residents
ATTACH;FMTTYPE=image/png:https://kaukauna.gov/wp-content/uploads/2024/11/Recycle-photo-for-website.png
END:VEVENT
BEGIN:VEVENT
DTSTART;TZID=America/Chicago:20260831T180000
DTEND;TZID=America/Chicago:20260831T200000
DTSTAMP:20260419T182153
CREATED:20251110T160623Z
LAST-MODIFIED:20251110T160624Z
UID:10002185-1788199200-1788206400@kaukauna.gov
SUMMARY:Committee Meetings
DESCRIPTION:
URL:https://kaukauna.gov/event/committee-meetings-3/2026-08-31/
CATEGORIES:For Residents
ATTACH;FMTTYPE=image/png:https://kaukauna.gov/wp-content/uploads/2024/11/Municipal-Building-Photo-for-Website.png
END:VEVENT
END:VCALENDAR